Workbook

Sheet Qualifier wksht
B2: NAME: | AD2: Total score:
AD4: Conundrums solved:
B5: Check:
AD6: Points from numbers:
AD8: 9-letter words:
C9: ü | G9: 10pts | J9: +/- 5 | N9: 5pts
C10: +/- 1 | G10: 9pts | J10: +/- 6 | N10: 4pts | AD10: 8-letter words:
C11: +/- 2 | G11: 8pts | J11: +/- 7 | N11: 3pts
C12: +/- 3 | G12: 7pts | J12: +/- 8 | N12: 2pts | AD12: 7-letter words:
C13: +/- 4 | G13: 6pts | J13: +/- 9-10 1pt
C15: If the target is impossible, 10pts for closest solve
C16: then apply the scale thereafter.
W17: Declaration | AE17: Score
A18: Practice | AE18: Round | AI18: Sub-total
A20: L | B20: i
A23: N | B23: ii
A26: C | B26: iii
A30: Qualifier | AE30: Round | AI30: Sub-total
A32: L | B32: i
A35: L | B35: ii
A38: N | B38: iii
A41: L | B41: iv
A44: L | B44: v
A47: N | B47: vi
A50: L | B50: vii
AI52: è
C53: ü | G53: 10pts | J53: +/- 5 | N53: 5pts
C54: +/- 1 | G54: 9pts | J54: +/- 6 | N54: 4pts
C55: +/- 2 | G55: 8pts | J55: +/- 7 | N55: 3pts
C56: +/- 3 | G56: 7pts | J56: +/- 8 | N56: 2pts
C57: +/- 4 | G57: 6pts | J57: +/- 9-10 1pt
C59: If the target is impossible, 10pts for closest solve
C60: then apply the scale thereafter.
W61: Declaration | AE61: Score
AE62: Round | AI62: Sub-total
A64: L | B64: viii
A67: N | B67: ix
A70: C | B70: x
A73: L | B73: xi
A76: L | B76: xii
...

Sheet Qual scores test
D1: Points | E1: Conuns | F1: Numbers | G1: 9s | H1: 8s | I1: 7s | L1: 1 | M1: F | N1: A | Q1: 2 | R1: F | S1: A | V1: 3 | W1: F | X1: A | AA1: 4 | AB1: F | AC1: A | AF1: 5 | AG1: F | AH1: A | AK1: 6 | AL1: F | AM1: A | AP1: 7 | AQ1: F | AR1: A | AU1: 8 | AV1: F | AW1: A | AZ1: W | BA1: D | BB1: L | BC1: F | BD1: A | BE1: GD | BF1: Pts
A2: 1st | B2: 2 | C2: Ben Wilson | D2: 0.081 | E2: 0.047 | F2: 0.047 | G2: 0.047 | H2: 0.047 | I2: 0.047 | L2: W | M2: 7 | N2: 6 | Q2: W | R2: 6 | S2: 5 | AZ2: =COUNTIF(L2:AU2,"W") -> 2 | BA2: =COUNTIF(L2:AU2,"D") -> 0 | BB2: =COUNTIF(L2:AU2,"L") -> 0 | BC2: =M2+R2+W2+AB2+AG2+AL2+AQ2+AV2 -> 13 | BD2: =N2+S2+X2+AC2+AH2+AM2+AR2+AW2 -> 11 | BE2: =BC2-BD2 -> 2 | BF2: =(2*AZ2)+(BA2) -> 4
A3: 2nd | B3: 12 | C3: Ciaran McCarthy | D3: 0.081 | E3: 0.047 | F3: 0.047 | G3: 0.047 | H3: 0.047 | I3: 0.047 | L3: D | M3: 8 | N3: 8 | Q3: W | R3: 10 | S3: 9 | AZ3: =COUNTIF(L3:AU3,"W") -> 1 | BA3: =COUNTIF(L3:AU3,"D") -> 1 | BB3: =COUNTIF(L3:AU3,"L") -> 0 | BC3: =M3+R3+W3+AB3+AG3+AL3+AQ3+AV3 -> 18 | BD3: =N3+S3+X3+AC3+AH3+AM3+AR3+AW3 -> 17 | BE3: =BC3-BD3 -> 1 | BF3: =(2*AZ3)+(BA3) -> 3
A4: 3rd | B4: 6 | C4: Thomas Carey | D4: 0.081 | E4: 0.047 | F4: 0.047 | G4: 0.047 | H4: 0.047 | I4: 0.047 | L4: W | M4: 7 | N4: 6 | Q4: L | R4: 6 | S4: 7 | AZ4: =COUNTIF(L4:AU4,"W") -> 1 | BA4: =COUNTIF(L4:AU4,"D") -> 0 | BB4: =COUNTIF(L4:AU4,"L") -> 1 | BC4: =M4+R4+W4+AB4+AG4+AL4+AQ4+AV4 -> 13 | BD4: =N4+S4+X4+AC4+AH4+AM4+AR4+AW4 -> 13 | BE4: =BC4-BD4 -> 0 | BF4: =(2*AZ4)+(BA4) -> 2
A5: 4th | B5: 17 | C5: Mike Forrester | D5: 0.081 | E5: 0.047 | F5: 0.047 | G5: 0.047 | H5: 0.047 | I5: 0.047 | L5: W | M5: 9 | N5: 5 | Q5: L | R5: 4 | S5: 8 | AZ5: =COUNTIF(L5:AU5,"W") -> 1 | BA5: =COUNTIF(L5:AU5,"D") -> 0 | BB5: =COUNTIF(L5:AU5,"L") -> 1 | BC5: =M5+R5+W5+AB5+AG5+AL5+AQ5+AV5 -> 13 | BD5: =N5+S5+X5+AC5+AH5+AM5+AR5+AW5 -> 13 | BE5: =BC5-BD5 -> 0 | BF5: =(2*AZ5)+(BA5) -> 2
A6: 5th | B6: 1 | C6: Callum Todd | D6: 113 | E6: 2 | F6: 99 | G6: 2 | H6: 1 | I6: 0.047 | L6: D | M6: 8 | N6: 8 | AZ6: =COUNTIF(L6:AU6,"W") -> 0 | BA6: =COUNTIF(L6:AU6,"D") -> 1 | BB6: =COUNTIF(L6:AU6,"L") -> 0 | BC6: =M6+R6+W6+AB6+AG6+AL6+AQ6+AV6 -> 8 | BD6: =N6+S6+X6+AC6+AH6+AM6+AR6+AW6 -> 8 | BE6: =BC6-BD6 -> 0 | BF6: =(2*AZ6)+(BA6) -> 1
A7: 6th | B7: 4 | C7: Chris Marshall | D7: 0.081 | E7: 0.047 | F7: 0.047 | G7: 0.047 | H7: 0.047 | I7: 0.047 | L7: D | M7: 7 | N7: 7 | AZ7: =COUNTIF(L7:AU7,"W") -> 0 | BA7: =COUNTIF(L7:AU7,"D") -> 1 | BB7: =COUNTIF(L7:AU7,"L") -> 0 | BC7: =M7+R7+W7+AB7+AG7+AL7+AQ7+AV7 -> 7 | BD7: =N7+S7+X7+AC7+AH7+AM7+AR7+AW7 -> 7 | BE7: =BC7-BD7 -> 0 | BF7: =(2*AZ7)+(BA7) -> 1
A8: 7th | B8: 5 | C8: Tom Hargreaves | D8: 0.081 | E8: 0.047 | F8: 0.047 | G8: 0.047 | H8: 0.047 | I8: 0.047 | L8: D | M8: 7 | N8: 7 | AZ8: =COUNTIF(L8:AU8,"W") -> 0 | BA8: =COUNTIF(L8:AU8,"D") -> 1 | BB8: =COUNTIF(L8:AU8,"L") -> 0 | BC8: =M8+R8+W8+AB8+AG8+AL8+AQ8+AV8 -> 7 | BD8: =N8+S8+X8+AC8+AH8+AM8+AR8+AW8 -> 7 | BE8: =BC8-BD8 -> 0 | BF8: =(2*AZ8)+(BA8) -> 1
A9: 8th | B9: 9 | C9: Steve Ball | D9: 0.081 | E9: 0.047 | F9: 0.047 | G9: 0.047 | H9: 0.047 | I9: 0.047 | AZ9: =COUNTIF(L9:AU9,"W") -> 0 | BA9: =COUNTIF(L9:AU9,"D") -> 0 | BB9: =COUNTIF(L9:AU9,"L") -> 0 | BC9: =M9+R9+W9+AB9+AG9+AL9+AQ9+AV9 -> 0 | BD9: =N9+S9+X9+AC9+AH9+AM9+AR9+AW9 -> 0 | BE9: =BC9-BD9 -> 0 | BF9: =(2*AZ9)+(BA9) -> 0
A10: 9th | B10: 10 | C10: Tracey Mills | D10: 0.081 | E10: 0.047 | F10: 0.047 | G10: 0.047 | H10: 0.047 | I10: 0.047 | AZ10: =COUNTIF(L10:AU10,"W") -> 0 | BA10: =COUNTIF(L10:AU10,"D") -> 0 | BB10: =COUNTIF(L10:AU10,"L") -> 0 | BC10: =M10+R10+W10+AB10+AG10+AL10+AQ10+AV10 -> 0 | BD10: =N10+S10+X10+AC10+AH10+AM10+AR10+AW10 -> 0 | BE10: =BC10-BD10 -> 0 | BF10: =(2*AZ10)+(BA10) -> 0
A11: 10th | B11: 11 | C11: Jack Worsley | D11: 0.081 | E11: 0.047 | F11: 0.047 | G11: 0.047 | H11: 0.047 | I11: 0.047 | AZ11: =COUNTIF(L11:AU11,"W") -> 0 | BA11: =COUNTIF(L11:AU11,"D") -> 0 | BB11: =COUNTIF(L11:AU11,"L") -> 0 | BC11: =M11+R11+W11+AB11+AG11+AL11+AQ11+AV11 -> 0 | BD11: =N11+S11+X11+AC11+AH11+AM11+AR11+AW11 -> 0 | BE11: =BC11-BD11 -> 0 | BF11: =(2*AZ11)+(BA11) -> 0
A12: 11th | B12: 13 | C12: Anthony Endsor | D12: 0.081 | E12: 0.047 | F12: 0.047 | G12: 0.047 | H12: 0.047 | I12: 0.047 | AZ12: =COUNTIF(L12:AU12,"W") -> 0 | BA12: =COUNTIF(L12:AU12,"D") -> 0 | BB12: =COUNTIF(L12:AU12,"L") -> 0 | BC12: =M12+R12+W12+AB12+AG12+AL12+AQ12+AV12 -> 0 | BD12: =N12+S12+X12+AC12+AH12+AM12+AR12+AW12 -> 0 | BE12: =BC12-BD12 -> 0 | BF12: =(2*AZ12)+(BA12) -> 0
A13: 12th | B13: 14 | C13: Elaine Broadley | D13: 0.081 | E13: 0.047 | F13: 0.047 | G13: 0.047 | H13: 0.047 | I13: 0.047 | AZ13: =COUNTIF(L13:AU13,"W") -> 0 | BA13: =COUNTIF(L13:AU13,"D") -> 0 | BB13: =COUNTIF(L13:AU13,"L") -> 0 | BC13: =M13+R13+W13+AB13+AG13+AL13+AQ13+AV13 -> 0 | BD13: =N13+S13+X13+AC13+AH13+AM13+AR13+AW13 -> 0 | BE13: =BC13-BD13 -> 0 | BF13: =(2*AZ13)+(BA13) -> 0
A14: 13th | B14: 15 | C14: Jason Turner | D14: 0.081 | E14: 0.047 | F14: 0.047 | G14: 0.047 | H14: 0.047 | I14: 0.047 | AZ14: =COUNTIF(L14:AU14,"W") -> 0 | BA14: =COUNTIF(L14:AU14,"D") -> 0 | BB14: =COUNTIF(L14:AU14,"L") -> 0 | BC14: =M14+R14+W14+AB14+AG14+AL14+AQ14+AV14 -> 0 | BD14: =N14+S14+X14+AC14+AH14+AM14+AR14+AW14 -> 0 | BE14: =BC14-BD14 -> 0 | BF14: =(2*AZ14)+(BA14) -> 0
A15: 14th | B15: 16 | C15: Jonathan Wynn | D15: 0.081 | E15: 0.047 | F15: 0.047 | G15: 0.047 | H15: 0.047 | I15: 0.047 | AZ15: =COUNTIF(L15:AU15,"W") -> 0 | BA15: =COUNTIF(L15:AU15,"D") -> 0 | BB15: =COUNTIF(L15:AU15,"L") -> 0 | BC15: =M15+R15+W15+AB15+AG15+AL15+AQ15+AV15 -> 0 | BD15: =N15+S15+X15+AC15+AH15+AM15+AR15+AW15 -> 0 | BE15: =BC15-BD15 -> 0 | BF15: =(2*AZ15)+(BA15) -> 0
A16: 15th | B16: 18 | C16: John Vivian | D16: 0.081 | E16: 0.047 | F16: 0.047 | G16: 0.047 | H16: 0.047 | I16: 0.047 | AZ16: =COUNTIF(L16:AU16,"W") -> 0 | BA16: =COUNTIF(L16:AU16,"D") -> 0 | BB16: =COUNTIF(L16:AU16,"L") -> 0 | BC16: =M16+R16+W16+AB16+AG16+AL16+AQ16+AV16 -> 0 | BD16: =N16+S16+X16+AC16+AH16+AM16+AR16+AW16 -> 0 | BE16: =BC16-BD16 -> 0 | BF16: =(2*AZ16)+(BA16) -> 0
A17: 16th | B17: 19 | C17: Andy McGurn | D17: 0.081 | E17: 0.047 | F17: 0.047 | G17: 0.047 | H17: 0.047 | I17: 0.047 | AZ17: =COUNTIF(L17:AU17,"W") -> 0 | BA17: =COUNTIF(L17:AU17,"D") -> 0 | BB17: =COUNTIF(L17:AU17,"L") -> 0 | BC17: =M17+R17+W17+AB17+AG17+AL17+AQ17+AV17 -> 0 | BD17: =N17+S17+X17+AC17+AH17+AM17+AR17+AW17 -> 0 | BE17: =BC17-BD17 -> 0 | BF17: =(2*AZ17)+(BA17) -> 0
A18: 17th | B18: 20 | C18: Andy Platt | D18: 0.081 | E18: 0.047 | F18: 0.047 | G18: 0.047 | H18: 0.047 | I18: 0.047 | AZ18: =COUNTIF(L18:AU18,"W") -> 0 | BA18: =COUNTIF(L18:AU18,"D") -> 0 | BB18: =COUNTIF(L18:AU18,"L") -> 0 | BC18: =M18+R18+W18+AB18+AG18+AL18+AQ18+AV18 -> 0 | BD18: =N18+S18+X18+AC18+AH18+AM18+AR18+AW18 -> 0 | BE18: =BC18-BD18 -> 0 | BF18: =(2*AZ18)+(BA18) -> 0
A19: 18th | B19: 21 | C19: Mike Pickering | D19: 0.081 | E19: 0.047 | F19: 0.047 | G19: 0.047 | H19: 0.047 | I19: 0.047 | AZ19: =COUNTIF(L19:AU19,"W") -> 0 | BA19: =COUNTIF(L19:AU19,"D") -> 0 | BB19: =COUNTIF(L19:AU19,"L") -> 0 | BC19: =M19+R19+W19+AB19+AG19+AL19+AQ19+AV19 -> 0 | BD19: =N19+S19+X19+AC19+AH19+AM19+AR19+AW19 -> 0 | BE19: =BC19-BD19 -> 0 | BF19: =(2*AZ19)+(BA19) -> 0
A20: 19th | B20: 22 | C20: ? | D20: 0.081 | E20: 0.047 | F20: 0.047 | G20: 0.047 | H20: 0.047 | I20: 0.047 | AZ20: =COUNTIF(L20:AU20,"W") -> 0 | BA20: =COUNTIF(L20:AU20,"D") -> 0 | BB20: =COUNTIF(L20:AU20,"L") -> 0 | BC20: =M20+R20+W20+AB20+AG20+AL20+AQ20+AV20 -> 0 | BD20: =N20+S20+X20+AC20+AH20+AM20+AR20+AW20 -> 0 | BE20: =BC20-BD20 -> 0 | BF20: =(2*AZ20)+(BA20) -> 0
A21: 20th | B21: 7 | C21: Phil Jarvis | D21: 0.081 | E21: 0.047 | F21: 0.047 | G21: 0.047 | H21: 0.047 | I21: 0.047 | L21: L | M21: 6 | N21: 7 | AZ21: =COUNTIF(L21:AU21,"W") -> 0 | BA21: =COUNTIF(L21:AU21,"D") -> 0 | BB21: =COUNTIF(L21:AU21,"L") -> 1 | BC21: =M21+R21+W21+AB21+AG21+AL21+AQ21+AV21 -> 6 | BD21: =N21+S21+X21+AC21+AH21+AM21+AR21+AW21 -> 7 | BE21: =BC21-BD21 -> -1 | BF21: =(2*AZ21)+(BA21) -> 0
A22: 21st | B22: 8 | C22: James Laverty | D22: 0.081 | E22: 0.047 | F22: 0.047 | G22: 0.047 | H22: 0.047 | I22: 0.047 | L22: L | M22: 6 | N22: 7 | AZ22: =COUNTIF(L22:AU22,"W") -> 0 | BA22: =COUNTIF(L22:AU22,"D") -> 0 | BB22: =COUNTIF(L22:AU22,"L") -> 1 | BC22: =M22+R22+W22+AB22+AG22+AL22+AQ22+AV22 -> 6 | BD22: =N22+S22+X22+AC22+AH22+AM22+AR22+AW22 -> 7 | BE22: =BC22-BD22 -> -1 | BF22: =(2*AZ22)+(BA22) -> 0
A23: 22nd | B23: 3 | C23: Stewart Gordon | D23: 0.081 | E23: 0.047 | F23: 0.047 | G23: 0.047 | H23: 0.047 | I23: 0.047 | L23: L | M23: 5 | N23: 8 | AZ23: =COUNTIF(L23:AU23,"W") -> 0 | BA23: =COUNTIF(L23:AU23,"D") -> 0 | BB23: =COUNTIF(L23:AU23,"L") -> 1 | BC23: =M23+R23+W23+AB23+AG23+AL23+AQ23+AV23 -> 5 | BD23: =N23+S23+X23+AC23+AH23+AM23+AR23+AW23 -> 8 | BE23: =BC23-BD23 -> -3 | BF23: =(2*AZ23)+(BA23) -> 0
D24: Points | E24: Conuns | F24: Numbers | G24: 9s | H24: 8s | I24: 7s | L24: 1 | M24: F | N24: A | Q24: 2 | R24: F | S24: A | V24: 3 | W24: F | X24: A | AA24: 4 | AB24: F | AC24: A | AF24: 5 | AG24: F | AH24: A | AK24: 6 | AL24: F | AM24: A | AP24: 7 | AQ24: F | AR24: A | AU24: 8 | AV24: F | AW24: A | AZ24: W | BA24: D | BB24: L | BC24: F | BD24: A | BE24: GD | BF24: Pts

Sheet £ ins outs, names
A1: Date | D1: Last updated: | E1: 42551 | G1: JR | Q1: In | R1: Out - JC | S1: Out - JR
A2: March 2016 | C2: Venue hire plus buffet lunches - County Club, St. Albans | S2: 480
C3: Winner's trophy (+ engraving) | D3: Prize A1 | S3: 14.44
C4: Box of chocolates | D4: Prize A1
C5: Runner-up's trophy (+ engraving) | D5: Prize A2 | S5: 10.44
C6: Box of chocolates | D6: Prize A2
C7: Third place trophy (+ engraving) | D7: Prize A3 | S7: 8.44
C8: Box of chocolates | D8: Prize B1
D9: Prize B2
D10: Prize B3
C11: Box of chocolates | D11: Prize C1
D12: Prize C2
D13: Prize C3
C14: Pointless Trophies | D14: Pointless | S14: 9.88
C16: Outlays: | R16: =SUM(R2:R15) -> 0 | S16: =SUM(S2:S15) -> 523.2 | U16: =SUM(R16:T16) -> 523.2
E18: Hud12? | F18: Hud13? | G18: Aces13? | H18: StAl14? | I18: Hud14? | J18: StAl15? | K18: Hud15? | L18: StAl16?
A19: March 2016 | C19: Rob Gibney | E19: X | F19: X | G19: X | H19: / | I19: / | J19: / | K19: X | L19: /
A20: 42451 | B20: 1 | C20: Adam Curran | E20: X | F20: X | G20: X | H20: / | I20: X | J20: X | K20: X | L20: / | M20: PayPal | O20: JR | P20: 1 | Q20: 15
A21: 42459 | C21: Heather Styles | E21: X | F21: / | G21: / | H21: / | I21: X | J21: / | K21: X | L21: X | M21: PayPal | O21: JR | Q21: 15
A22: 42463 | B22: 2 | C22: Julie McCarthy | E22: X | F22: X | G22: X | H22: / | I22: X | J22: / | K22: X | L22: / | M22: PayPal | N22: JC | P22: 2 | Q22: 15
A23: 42465 | B23: 3 | C23: Adam Dexter | E23: X | F23: X | G23: X | H23: / | I23: X | J23: / | K23: X | L23: / | M23: PayPal | N23: JC | P23: 3 | Q23: 15
A24: 42473 | B24: 4 | C24: Mauro Pratesi | E24: X | F24: X | G24: X | H24: / | I24: X | J24: / | K24: X | L24: / | M24: PayPal | O24: JR | P24: 4 | Q24: 15
A25: 42473 | B25: 5 | C25: Natasha Pratesi | E25: X | F25: X | G25: X | H25: / | I25: X | J25: / | K25: X | L25: / | M25: PayPal | O25: JR | P25: 5 | Q25: 15
A26: 42501 | B26: 6 | C26: Mark Murray | E26: X | F26: X | G26: X | H26: / | I26: X | J26: / | K26: X | L26: / | M26: PayPal | O26: JR | P26: 6 | Q26: 15
A27: 42506 | B27: 7 | C27: Bertrand Adam | E27: X | F27: X | G27: X | H27: X | I27: X | J27: X | K27: X | L27: / | M27: Transfer | O27: JR | P27: 7 | Q27: 15
A28: 42520 | B28: 8 | C28: Tom Cappleman | E28: X | F28: X | G28: X | H28: X | I28: X | J28: / | K28: X | L28: / | M28: PayPal | N28: JC | P28: 8 | Q28: 15
A29: 42521 | B29: 9 | C29: Giles Hutchings | E29: X | F29: X | G29: X | H29: X | I29: X | J29: X | K29: X | L29: / | M29: PayPal | O29: JR | P29: 9 | Q29: 15
A30: 42523 | B30: 10 | C30: Eddy Byrne | E30: X | F30: X | G30: X | H30: X | I30: X | J30: / | K30: X | L30: / | M30: PayPal | N30: JC | P30: 10 | Q30: 15
A31: 42525 | B31: 11 | C31: Callum Todd | E31: X | F31: X | G31: / | H31: / | I31: / | J31: / | K31: / | L31: / | M31: PayPal | N31: JC | P31: 11 | Q31: 15
A32: 42525 | B32: 12 | C32: Jerry Humphreys | E32: X | F32: X | G32: X | H32: X | I32: X | J32: / | K32: X | L32: / | M32: PayPal | N32: JC | P32: 12 | Q32: 15
A33: 42529 | B33: 13 | C33: Zarte Siempre | E33: X | F33: X | G33: X | H33: X | I33: X | J33: X | K33: X | L33: / | M33: PayPal | N33: JC | P33: 13 | Q33: 15
A34: 42530 | B34: 14 | C34: Toby Pereira | E34: X | F34: X | G34: X | H34: / | I34: X | J34: / | K34: / | L34: / | M34: PayPal | O34: JR | P34: 14 | Q34: 15
A35: 42531 | B35: 15 | C35: Martin Hurst | E35: X | F35: X | G35: X | H35: X | I35: X | J35: X | K35: X | L35: / | M35: Transfer | O35: JR | P35: 15 | Q35: 15
A36: 42531 | B36: 16 | C36: Jon Elmer | E36: X | F36: X | G36: X | H36: X | I36: X | J36: X | K36: X | L36: / | M36: Cheque | O36: JR | P36: 16 | Q36: 15
A37: 42535 | B37: 17 | C37: Jessica Pratesi | E37: X | F37: X | G37: X | H37: / | I37: X | J37: / | K37: X | L37: / | M37: PayPal | O37: JR | P37: 17 | Q37: 15
A38: 42536 | C38: Phyl Styles | E38: X | F38: X | G38: X | H38: / | I38: X | J38: / | K38: X | L38: X | M38: Cheque | O38: JR | P38: 18 | Q38: 15
A39: 42536 | C39: Alan Styles | E39: X | F39: X | G39: X | H39: / | I39: X | J39: / | K39: X | L39: X | M39: Cheque | O39: JR | P39: 19 | Q39: 15
A40: 42537 | B40: 18 | C40: Rob Foster | E40: X | F40: X | G40: X | H40: / | I40: X | J40: / | K40: X | L40: / | M40: PayPal | O40: JR | P40: 20 | Q40: 15
A41: 42541 | B41: 19 | C41: Graeme Cole | E41: / | F41: / | G41: X | H41: / | I41: X | J41: / | K41: X | L41: / | M41: PayPal | O41: JR | P41: 21 | Q41: 15
A42: 42546 | B42: 20 | C42: Callum Pickering | E42: X | F42: X | G42: X | H42: X | I42: X | J42: / | K42: X | L42: / | M42: PayPal | O42: JR | P42: 22 | Q42: 15
...

Sheet Names vlookup
A1: 0 | B1: . | E1: Arrived? | G1: Picks | L1: Register
A2: 1 | B2: Margaret Marshall
A3: 2 | B3: Paul Talmey | D3: *
A4: 3 | B4: Zarte Siempre
A5: 4 | B5: Karen Pearson
A6: 5 | B6: Toby Pereira
A7: 6 | B7: Matt Morrison
A8: 7 | B8: Heather Badcock
A9: 8 | B9: Jon O'Neill
A10: 9 | B10: Sean Fletcher
A11: 10 | B11: Jamie Illett-Jones
A12: 11 | B12: Jayne Wisniewski
A13: 12 | B13: David Barnard
A14: 13 | B14: Mike Brown
A15: 14 | B15: Ann Dibben
... A19: 18 | B19: Tom Cappleman
A20: 19 | B20: Thomas Wade | D20: *
A21: 20 | B21: Graeme Cole
A22: 21 | B22: Dan McColm
A23: 22 | B23: Eddy Byrne
A24: 23 | B24: Heather Styles
A25: 24 | B25: Lauren Hamer
A26: 25 | B26: Void
A27: 26 | B27: Tim Down
A28: 27 | B28: Giles Hutchings
A29: 28 | B29: Peter Clarke
A30: 29
A31: 30
A32: 31
A33: 32
L34: JC:
L35: MM:

Sheet Who's played who
C1: 1 | D1: 2 | E1: 3 | F1: 4 | G1: 5 | H1: 6 | I1: 7 | J1: 8 | K1: 9 | L1: 10 | M1: 11 | N1: 12 | O1: 13 | P1: 14 | Q1: 15 | R1: 16 | S1: 17 | T1: 18 | U1: 19 | V1: 20 | W1: 21 | X1: 22 | Y1: 23 | Z1: 24 | AA1: 25 | AB1: 26 | AC1: 27 | AD1: 28 | AE1: 29 | AF1: 30 | AG1: 31 | AH1: 32
B2: 1
B3: 2
B4: 3
B5: 4
B6: 5
B7: 6
B8: 7
B9: 8
B10: 9
B11: 10
B12: 11
B13: 12
... B33: 32

Sheet Draws, Part 1
A1: #1 | B1: Group 1 | K1: Group 2 | T1: Group 3 | AC1: Group 4 | AL1: Group 5 | AU1: Group 6 | BD1: Group 7
B3: 9 | C3: =VLOOKUP(B3, 'Names vlookup'!$A$1:$B$36, 2, FALSE) -> Sean Fletcher | H3: 5 | I3: =VLOOKUP(H3, 'Names vlookup'!$A$1:$B$36, 2, FALSE) -> Toby Pereira | K3: 6 | L3: =VLOOKUP(K3, 'Names vlookup'!$A$1:$B$36, 2, FALSE) -> Matt Morrison | Q3: 25 | R3: =VLOOKUP(Q3, 'Names vlookup'!$A$1:$B$36, 2, FALSE) -> Void | T3: 1 | U3: =VLOOKUP(T3, 'Names vlookup'!$A$1:$B$36, 2, FALSE) -> Margaret Marshall | Z3: 15 | AA3: =VLOOKUP(Z3, 'Names vlookup'!$A$1:$B$36, 2, FALSE) -> David Hilton | AC3: 28 | AD3: =VLOOKUP(AC3, 'Names vlookup'!$A$1:$B$36, 2, FALSE) -> Peter Clarke | AI3: 20 | AJ3: =VLOOKUP(AI3, 'Names vlookup'!$A$1:$B$36, 2, FALSE) -> Graeme Cole | AL3: 14 | AM3: =VLOOKUP(AL3, 'Names vlookup'!$A$1:$B$36, 2, FALSE) -> Ann Dibben | AR3: 3 | AS3: =VLOOKUP(AR3, 'Names vlookup'!$A$1:$B$36, 2, FALSE) -> Zarte Siempre | AU3: 19 | AV3: =VLOOKUP(AU3, 'Names vlookup'!$A$1:$B$36, 2, FALSE) -> Thomas Wade | BA3: 2 | BB3: =VLOOKUP(BA3, 'Names vlookup'!$A$1:$B$36, 2, FALSE) -> Paul Talmey | BD3: 8 | BE3: =VLOOKUP(BD3, 'Names vlookup'!$A$1:$B$36, 2, FALSE) -> Jon O'Neill | BJ3: 7 | BK3: =VLOOKUP(BJ3, 'Names vlookup'!$A$1:$B$36, 2, FALSE) -> Heather Badcock
B5: 10 | C5: =VLOOKUP(B5, 'Names vlookup'!$A$1:$B$36, 2, FALSE) -> Jamie Illett-Jones | H5: 18 | I5: =VLOOKUP(H5, 'Names vlookup'!$A$1:$B$36, 2, FALSE) -> Tom Cappleman | K5: 13 | L5: =VLOOKUP(K5, 'Names vlookup'!$A$1:$B$36, 2, FALSE) -> Mike Brown | Q5: 27 | R5: =VLOOKUP(Q5, 'Names vlookup'!$A$1:$B$36, 2, FALSE) -> Giles Hutchings | T5: 16 | U5: =VLOOKUP(T5, 'Names vlookup'!$A$1:$B$36, 2, FALSE) -> Martin Taylor | Z5: 23 | AA5: =VLOOKUP(Z5, 'Names vlookup'!$A$1:$B$36, 2, FALSE) -> Heather Styles | AC5: 21 | AD5: =VLOOKUP(AC5, 'Names vlookup'!$A$1:$B$36, 2, FALSE) -> Dan McColm | AI5: 11 | AJ5: =VLOOKUP(AI5, 'Names vlookup'!$A$1:$B$36, 2, FALSE) -> Jayne Wisniewski | AL5: 24 | AM5: =VLOOKUP(AL5, 'Names vlookup'!$A$1:$B$36, 2, FALSE) -> Lauren Hamer | AR5: 4 | AS5: =VLOOKUP(AR5, 'Names vlookup'!$A$1:$B$36, 2, FALSE) -> Karen Pearson | AU5: 26 | AV5: =VLOOKUP(AU5, 'Names vlookup'!$A$1:$B$36, 2, FALSE) -> Tim Down | BA5: 22 | BB5: =VLOOKUP(BA5, 'Names vlookup'!$A$1:$B$36, 2, FALSE) -> Eddy Byrne | BD5: 17 | BE5: =VLOOKUP(BD5, 'Names vlookup'!$A$1:$B$36, 2, FALSE) -> Jonathan Wynn | BJ5: 12 | BK5: =VLOOKUP(BJ5, 'Names vlookup'!$A$1:$B$36, 2, FALSE) -> David Barnard | BM5: Part 1 | BN5: Games 1.1 1.2 1.3
BM7: Part 2 | BN7: Games 2.1 2.2 2.3
A8: 1.1 | B8: =B3 -> 9 | C8: =VLOOKUP(B8, 'Names vlookup'!$A$1:$B$36, 2, FALSE) -> Sean Fletcher | D8: 1.048 | E8: - | F8: 0.045 | H8: =H3 -> 5 | I8: =VLOOKUP(H8, 'Names vlookup'!$A$1:$B$36, 2, FALSE) -> Toby Pereira | K8: =K3 -> 6 | L8: =VLOOKUP(K8, 'Names vlookup'!$A$1:$B$36, 2, FALSE) -> Matt Morrison | M8: 1.046 | N8: - | O8: 0.031 | Q8: =Q3 -> 25 | R8: =VLOOKUP(Q8, 'Names vlookup'!$A$1:$B$36, 2, FALSE) -> Void | T8: =T3 -> 1 | U8: =VLOOKUP(T8, 'Names vlookup'!$A$1:$B$36, 2, FALSE) -> Margaret Marshall | V8: 0.04 | W8: - | X8: 1.046 | Z8: =Z3 -> 15 | AA8: =VLOOKUP(Z8, 'Names vlookup'!$A$1:$B$36, 2, FALSE) -> David Hilton | AC8: =AC3 -> 28 | AD8: =VLOOKUP(AC8, 'Names vlookup'!$A$1:$B$36, 2, FALSE) -> Peter Clarke | AE8: 0.041 | AF8: - | AG8: 1.062 | AI8: =AI3 -> 20 | AJ8: =VLOOKUP(AI8, 'Names vlookup'!$A$1:$B$36, 2, FALSE) -> Graeme Cole | AL8: =AL3 -> 14 | AM8: =VLOOKUP(AL8, 'Names vlookup'!$A$1:$B$36, 2, FALSE) -> Ann Dibben | AN8: 0.06 | AO8: - | AP8: 1.082 | AR8: =AR3 -> 3 | AS8: =VLOOKUP(AR8, 'Names vlookup'!$A$1:$B$36, 2, FALSE) -> Zarte Siempre | AU8: =AU3 -> 19 | AV8: =VLOOKUP(AU8, 'Names vlookup'!$A$1:$B$36, 2, FALSE) -> Thomas Wade | AW8: 0.013 | AX8: - | AY8: 1.053 | BA8: =BA3 -> 2 | BB8: =VLOOKUP(BA8, 'Names vlookup'!$A$1:$B$36, 2, FALSE) -> Paul Talmey | BD8: =BD3 -> 8 | BE8: =VLOOKUP(BD8, 'Names vlookup'!$A$1:$B$36, 2, FALSE) -> Jon O'Neill | BF8: 1.073 | BG8: - | BH8: 0.027 | BJ8: =BJ3 -> 7 | BK8: =VLOOKUP(BJ8, 'Names vlookup'!$A$1:$B$36, 2, FALSE) -> Heather Badcock
BM9: Part 3 | BN9: Game 7 (semi-final)
A10: 1.1 | B10: =H5 -> 18 | C10: =VLOOKUP(B10, 'Names vlookup'!$A$1:$B$36, 2, FALSE) -> Tom Cappleman | D10: 1.062 | E10: - | F10: 0.059 | H10: =B5 -> 10 | I10: =VLOOKUP(H10, 'Names vlookup'!$A$1:$B$36, 2, FALSE) -> Jamie Illett-Jones | K10: =Q5 -> 27 | L10: =VLOOKUP(K10, 'Names vlookup'!$A$1:$B$36, 2, FALSE) -> Giles Hutchings | M10: 1.076 | N10: - | O10: 0.044 | Q10: =K5 -> 13 | R10: =VLOOKUP(Q10, 'Names vlookup'!$A$1:$B$36, 2, FALSE) -> Mike Brown | T10: =Z5 -> 23 | U10: =VLOOKUP(T10, 'Names vlookup'!$A$1:$B$36, 2, FALSE) -> Heather Styles | V10: 1.06 | W10: - | X10: 0.023 | Z10: =T5 -> 16 | AA10: =VLOOKUP(Z10, 'Names vlookup'!$A$1:$B$36, 2, FALSE) -> Martin Taylor | AC10: =AI5 -> 11 | AD10: =VLOOKUP(AC10, 'Names vlookup'!$A$1:$B$36, 2, FALSE) -> Jayne Wisniewski | AE10: 0.041 | AF10: - | AG10: 1.063 | AI10: =AC5 -> 21 | AJ10: =VLOOKUP(AI10, 'Names vlookup'!$A$1:$B$36, 2, FALSE) -> Dan McColm | AL10: =AR5 -> 4 | AM10: =VLOOKUP(AL10, 'Names vlookup'!$A$1:$B$36, 2, FALSE) -> Karen Pearson | AN10: 0.043 | AO10: - | AP10: 1.052 | AR10: =AL5 -> 24 | AS10: =VLOOKUP(AR10, 'Names vlookup'!$A$1:$B$36, 2, FALSE) -> Lauren Hamer | AU10: =BA5 -> 22 | AV10: =VLOOKUP(AU10, 'Names vlookup'!$A$1:$B$36, 2, FALSE) -> Eddy Byrne | AW10: 0.051 | AX10: - | AY10: 1.056 | BA10: =AU5 -> 26 | BB10: =VLOOKUP(BA10, 'Names vlookup'!$A$1:$B$36, 2, FALSE) -> Tim Down | BD10: =BJ5 -> 12 | BE10: =VLOOKUP(BD10, 'Names vlookup'!$A$1:$B$36, 2, FALSE) -> David Barnard | BF10: 0.055 | BG10: - | BH10: 1.069 | BJ10: =BD5 -> 17 | BK10: =VLOOKUP(BJ10, 'Names vlookup'!$A$1:$B$36, 2, FALSE) -> Jonathan Wynn | BN10: 1st vs 4th, 2nd vs 3rd
BM11: Grand Final
A13: 1.2 | B13: =B5 -> 10 | C13: =VLOOKUP(B13, 'Names vlookup'!$A$1:$B$36, 2, FALSE) -> Jamie Illett-Jones | D13: 1.061 | E13: - | F13: 0.053 | H13: =B3 -> 9 | I13: =VLOOKUP(H13, 'Names vlookup'!$A$1:$B$36, 2, FALSE) -> Sean Fletcher | K13: =K5 -> 13 | L13: =VLOOKUP(K13, 'Names vlookup'!$A$1:$B$36, 2, FALSE) -> Mike Brown | M13: 1.069 | N13: - | O13: 0.047 | Q13: =K3 -> 6 | R13: =VLOOKUP(Q13, 'Names vlookup'!$A$1:$B$36, 2, FALSE) -> Matt Morrison | T13: =T5 -> 16 | U13: =VLOOKUP(T13, 'Names vlookup'!$A$1:$B$36, 2, FALSE) -> Martin Taylor | V13: 1.054 | W13: - | X13: 0.028 | Z13: =T3 -> 1 | AA13: =VLOOKUP(Z13, 'Names vlookup'!$A$1:$B$36, 2, FALSE) -> Margaret Marshall | AC13: =AC5 -> 21 | AD13: =VLOOKUP(AC13, 'Names vlookup'!$A$1:$B$36, 2, FALSE) -> Dan McColm | AE13: 1.072 | AF13: - | AG13: 0.039 | AI13: =AC3 -> 28 | AJ13: =VLOOKUP(AI13, 'Names vlookup'!$A$1:$B$36, 2, FALSE) -> Peter Clarke | AL13: =AL5 -> 24 | AM13: =VLOOKUP(AL13, 'Names vlookup'!$A$1:$B$36, 2, FALSE) -> Lauren Hamer | AN13: 0.045 | AO13: - | AP13: 1.07 | AR13: =AL3 -> 14 | AS13: =VLOOKUP(AR13, 'Names vlookup'!$A$1:$B$36, 2, FALSE) -> Ann Dibben | AU13: =AU5 -> 26 | AV13: =VLOOKUP(AU13, 'Names vlookup'!$A$1:$B$36, 2, FALSE) -> Tim Down | AW13: 1.075 | AX13: - | AY13: 0.004 | BA13: =AU3 -> 19 | BB13: =VLOOKUP(BA13, 'Names vlookup'!$A$1:$B$36, 2, FALSE) -> Thomas Wade | BD13: =BD5 -> 17 | BE13: =VLOOKUP(BD13, 'Names vlookup'!$A$1:$B$36, 2, FALSE) -> Jonathan Wynn | BF13: 1.066 | BG13: - | BH13: 0.044 | BJ13: =BD3 -> 8 | BK13: =VLOOKUP(BJ13, 'Names vlookup'!$A$1:$B$36, 2, FALSE) -> Jon O'Neill
A15: 1.2 | B15: =H5 -> 18 | C15: =VLOOKUP(B15, 'Names vlookup'!$A$1:$B$36, 2, FALSE) -> Tom Cappleman | D15: 1.068 | E15: - | F15: 0.046 | H15: =H3 -> 5 | I15: =VLOOKUP(H15, 'Names vlookup'!$A$1:$B$36, 2, FALSE) -> Toby Pereira | K15: =Q5 -> 27 | L15: =VLOOKUP(K15, 'Names vlookup'!$A$1:$B$36, 2, FALSE) -> Giles Hutchings | M15: 1.069 | N15: - | O15: 0.021 | Q15: =Q3 -> 25 | R15: =VLOOKUP(Q15, 'Names vlookup'!$A$1:$B$36, 2, FALSE) -> Void | T15: =Z5 -> 23 | U15: =VLOOKUP(T15, 'Names vlookup'!$A$1:$B$36, 2, FALSE) -> Heather Styles | V15: 0.032 | W15: - | X15: 1.042 | Y15: * | Z15: =Z3 -> 15 | AA15: =VLOOKUP(Z15, 'Names vlookup'!$A$1:$B$36, 2, FALSE) -> David Hilton | AC15: =AI5 -> 11 | AD15: =VLOOKUP(AC15, 'Names vlookup'!$A$1:$B$36, 2, FALSE) -> Jayne Wisniewski | AE15: 0.033 | AF15: - | AG15: 1.072 | AI15: =AI3 -> 20 | AJ15: =VLOOKUP(AI15, 'Names vlookup'!$A$1:$B$36, 2, FALSE) -> Graeme Cole | AL15: =AR5 -> 4 | AM15: =VLOOKUP(AL15, 'Names vlookup'!$A$1:$B$36, 2, FALSE) -> Karen Pearson | AN15: 0.039 | AO15: - | AP15: 1.062 | AR15: =AR3 -> 3 | AS15: =VLOOKUP(AR15, 'Names vlookup'!$A$1:$B$36, 2, FALSE) -> Zarte Siempre | AU15: =BA5 -> 22 | AV15: =VLOOKUP(AU15, 'Names vlookup'!$A$1:$B$36, 2, FALSE) -> Eddy Byrne | AW15: 1.053 | AX15: - | AY15: 0.02 | BA15: =BA3 -> 2 | BB15: =VLOOKUP(BA15, 'Names vlookup'!$A$1:$B$36, 2, FALSE) -> Paul Talmey | BD15: =BJ5 -> 12 | BE15: =VLOOKUP(BD15, 'Names vlookup'!$A$1:$B$36, 2, FALSE) -> David Barnard | BF15: 1.066 | BG15: - | BH15: 0.036 | BJ15: =BJ3 -> 7 | BK15: =VLOOKUP(BJ15, 'Names vlookup'!$A$1:$B$36, 2, FALSE) -> Heather Badcock
A18: 1.3 | B18: =B3 -> 9 | C18: =VLOOKUP(B18, 'Names vlookup'!$A$1:$B$36, 2, FALSE) -> Sean Fletcher | D18: 0.024 | E18: - | F18: 1.06 | H18: =H5 -> 18 | I18: =VLOOKUP(H18, 'Names vlookup'!$A$1:$B$36, 2, FALSE) -> Tom Cappleman | K18: =K3 -> 6 | L18: =VLOOKUP(K18, 'Names vlookup'!$A$1:$B$36, 2, FALSE) -> Matt Morrison | M18: 0.039 | N18: - | O18: 1.053 | Q18: =Q5 -> 27 | R18: =VLOOKUP(Q18, 'Names vlookup'!$A$1:$B$36, 2, FALSE) -> Giles Hutchings | T18: =T3 -> 1 | U18: =VLOOKUP(T18, 'Names vlookup'!$A$1:$B$36, 2, FALSE) -> Margaret Marshall | V18: 0.041 | W18: - | X18: 1.054 | Z18: =Z5 -> 23 | AA18: =VLOOKUP(Z18, 'Names vlookup'!$A$1:$B$36, 2, FALSE) -> Heather Styles | AC18: =AC3 -> 28 | AD18: =VLOOKUP(AC18, 'Names vlookup'!$A$1:$B$36, 2, FALSE) -> Peter Clarke | AE18: 0.045 | AF18: - | AG18: 1.05 | AI18: =AI5 -> 11 | AJ18: =VLOOKUP(AI18, 'Names vlookup'!$A$1:$B$36, 2, FALSE) -> Jayne Wisniewski | AL18: =AL3 -> 14 | AM18: =VLOOKUP(AL18, 'Names vlookup'!$A$1:$B$36, 2, FALSE) -> Ann Dibben | AN18: 1.062 | AO18: - | AP18: 0.03 | AR18: =AR5 -> 4 | AS18: =VLOOKUP(AR18, 'Names vlookup'!$A$1:$B$36, 2, FALSE) -> Karen Pearson | AU18: =AU3 -> 19 | AV18: =VLOOKUP(AU18, 'Names vlookup'!$A$1:$B$36, 2, FALSE) -> Thomas Wade | AW18: 0.012 | AX18: - | AY18: 1.052 | BA18: =BA5 -> 22 | BB18: =VLOOKUP(BA18, 'Names vlookup'!$A$1:$B$36, 2, FALSE) -> Eddy Byrne | BD18: =BD3 -> 8 | BE18: =VLOOKUP(BD18, 'Names vlookup'!$A$1:$B$36, 2, FALSE) -> Jon O'Neill | BF18: 1.063 | BG18: - | BH18: 0.046 | BJ18: =BJ5 -> 12 | BK18: =VLOOKUP(BJ18, 'Names vlookup'!$A$1:$B$36, 2, FALSE) -> David Barnard
A20: 1.3 | B20: =H3 -> 5 | C20: =VLOOKUP(B20, 'Names vlookup'!$A$1:$B$36, 2, FALSE) -> Toby Pereira | D20: 1.058 | E20: - | F20: 0.041 | H20: =B5 -> 10 | I20: =VLOOKUP(H20, 'Names vlookup'!$A$1:$B$36, 2, FALSE) -> Jamie Illett-Jones | K20: =Q3 -> 25 | L20: =VLOOKUP(K20, 'Names vlookup'!$A$1:$B$36, 2, FALSE) -> Void | M20: 0.042 | N20: - | O20: 1.051 | Q20: =K5 -> 13 | R20: =VLOOKUP(Q20, 'Names vlookup'!$A$1:$B$36, 2, FALSE) -> Mike Brown | T20: =Z3 -> 15 | U20: =VLOOKUP(T20, 'Names vlookup'!$A$1:$B$36, 2, FALSE) -> David Hilton | V20: 0.036 | W20: - | X20: 1.064 | Z20: =T5 -> 16 | AA20: =VLOOKUP(Z20, 'Names vlookup'!$A$1:$B$36, 2, FALSE) -> Martin Taylor | AC20: =AI3 -> 20 | AD20: =VLOOKUP(AC20, 'Names vlookup'!$A$1:$B$36, 2, FALSE) -> Graeme Cole | AE20: 1.062 | AF20: - | AG20: 0.059 | AI20: =AC5 -> 21 | AJ20: =VLOOKUP(AI20, 'Names vlookup'!$A$1:$B$36, 2, FALSE) -> Dan McColm | AL20: =AR3 -> 3 | AM20: =VLOOKUP(AL20, 'Names vlookup'!$A$1:$B$36, 2, FALSE) -> Zarte Siempre | AN20: 1.07 | AO20: - | AP20: 0.032 | AR20: =AL5 -> 24 | AS20: =VLOOKUP(AR20, 'Names vlookup'!$A$1:$B$36, 2, FALSE) -> Lauren Hamer | AU20: =BA3 -> 2 | AV20: =VLOOKUP(AU20, 'Names vlookup'!$A$1:$B$36, 2, FALSE) -> Paul Talmey | AW20: 0.016 | AX20: - | AY20: 1.047 | BA20: =AU5 -> 26 | BB20: =VLOOKUP(BA20, 'Names vlookup'!$A$1:$B$36, 2, FALSE) -> Tim Down | BD20: =BJ3 -> 7 | BE20: =VLOOKUP(BD20, 'Names vlookup'!$A$1:$B$36, 2, FALSE) -> Heather Badcock | BF20: 0.045 | BG20: - | BH20: 1.059 | BJ20: =BD5 -> 17 | BK20: =VLOOKUP(BJ20, 'Names vlookup'!$A$1:$B$36, 2, FALSE) -> Jonathan Wynn

Sheet Table, end of Part 1
F1: 1 | G1: F | H1: A | K1: 2 | L1: F | M1: A | P1: 3 | Q1: F | R1: A | U1: 4 | V1: F | W1: A | Z1: 5 | AA1: F | AB1: A | AD1: 6 | AE1: F | AF1: A | AI1: 7 | AJ1: F | AK1: A | AN1: 6 | AO1: F | AP1: A | AU1: W | AV1: L | AW1: F | AX1: A | AY1: GD
A2: 1st | B2: 1 | C2: Zarte Siempre | F2: W | G2: 82 | H2: 60 | K2: W | L2: 62 | M2: 39 | P2: W | Q2: 70 | R2: 32 | AU2: 3 | AV2: 0 | AW2: 214 | AX2: 131 | AY2: 83 | AZ2: 1st | BC2: B2 - AY2, down
A3: 2nd | B3: 2 | C3: Giles Hutchings | F3: W | G3: 76 | H3: 44 | K3: W | L3: 69 | M3: 21 | P3: W | Q3: 53 | R3: 39 | AU3: 3 | AV3: 0 | AW3: 198 | AX3: 104 | AY3: 94 | AZ3: 2nd
A4: 3rd | B4: 3 | C4: Graeme Cole | F4: W | G4: 62 | H4: 41 | K4: W | L4: 72 | M4: 33 | P4: W | Q4: 62 | R4: 59 | AU4: 3 | AV4: 0 | AW4: 196 | AX4: 133 | AY4: 63 | AZ4: 3rd
A5: 4th | B5: 4 | C5: Jonathan Wynn | F5: W | G5: 69 | H5: 55 | K5: W | L5: 66 | M5: 44 | P5: W | Q5: 59 | R5: 45 | AU5: 3 | AV5: 0 | AW5: 194 | AX5: 144 | AY5: 50 | AZ5: 4th
A6: 5th | B6: 5 | C6: Tom Cappleman | F6: W | G6: 62 | H6: 59 | K6: W | L6: 68 | M6: 46 | P6: W | Q6: 60 | R6: 24 | AU6: 3 | AV6: 0 | AW6: 190 | AX6: 129 | AY6: 61 | AZ6: 5th
A7: 6th | B7: 6 | C7: Tim Down | F7: W | G7: 56 | H7: 51 | K7: W | L7: 75 | M7: 4 | P7: W | Q7: 47 | R7: 16 | AU7: 3 | AV7: 0 | AW7: 178 | AX7: 71 | AY7: 107 | AZ7: 6th
A8: 7th | B8: 7 | C8: Dan McColm | F8: W | G8: 63 | H8: 41 | K8: W | L8: 72 | M8: 39 | P8: L | Q8: 59 | R8: 62 | AU8: 2 | AV8: 1 | AW8: 194 | AX8: 142 | AY8: 52 | AZ8: 7th
A9: 8th | B9: 8 | C9: Ann Dibben | F9: L | G9: 60 | H9: 82 | K9: W | L9: 70 | M9: 45 | P9: W | Q9: 62 | R9: 30 | AU9: 2 | AV9: 1 | AW9: 192 | AX9: 157 | AY9: 35 | AZ9: 8th
A10: 9th | B10: 9 | C10: Jon O'Neill | F10: W | G10: 73 | H10: 27 | K10: L | L10: 44 | M10: 66 | P10: W | Q10: 63 | R10: 46 | AU10: 2 | AV10: 1 | AW10: 180 | AX10: 139 | AY10: 41 | AZ10: 9th
A11: 10th | B11: 10 | C11: Mike Brown | F11: L | G11: 44 | H11: 76 | K11: W | L11: 69 | M11: 47 | P11: W | Q11: 51 | R11: 42 | AU11: 2 | AV11: 1 | AW11: 164 | AX11: 165 | AY11: -1 | AZ11: 10th
A12: 11th | B12: 11 | C12: Eddy Byrne | F12: L | G12: 51 | H12: 56 | K12: W | L12: 53 | M12: 20 | P12: W | Q12: 52 | R12: 12 | AU12: 2 | AV12: 1 | AW12: 156 | AX12: 88 | AY12: 68 | AZ12: 11th
A13: 12th | B13: 12 | C13: Heather Styles | F13: W | G13: 60 | H13: 23 | K13: L | L13: 32 | M13: 42 | P13: W | Q13: 54 | R13: 41 | AU13: 2 | AV13: 1 | AW13: 146 | AX13: 106 | AY13: 40 | AZ13: 12th
A14: 13th | B14: 13 | C14: Martin Taylor | F14: L | G14: 23 | H14: 60 | K14: W | L14: 54 | M14: 28 | P14: W | Q14: 64 | R14: 36 | AU14: 2 | AV14: 1 | AW14: 141 | AX14: 124 | AY14: 17 | AZ14: 13th
... A29: 28th | B29: 28 | C29: Thomas Wade | F29: L | G29: 13 | H29: 53 | K29: L | L29: 4 | M29: 75 | P29: L | Q29: 12 | R29: 52 | AU29: 0 | AV29: 3 | AW29: 29 | AX29: 180 | AY29: -151 | AZ29: 28th
A30: 29th | B30: 29 | C30: =VLOOKUP(B30, 'Names vlookup'!$A$1:$B$36, 2, FALSE) -> 0 | AU30: =COUNTIF(F30:AR30,"W") -> 0 | AV30: =COUNTIF(F30:AR30,"L") -> 0 | AW30: =G30+L30+Q30+AE30+AJ30+AO30 -> 0 | AX30: =H30+M30+R30+AF30+AK30+AP30 -> 0 | AY30: =AW30-AX30 -> 0 | AZ30: =A30 -> 29th
A31: 30th | B31: 30 | C31: =VLOOKUP(B31, 'Names vlookup'!$A$1:$B$36, 2, FALSE) -> 0 | AU31: =COUNTIF(F31:AR31,"W") -> 0 | AV31: =COUNTIF(F31:AR31,"L") -> 0 | AW31: =G31+L31+Q31+AE31+AJ31+AO31 -> 0 | AX31: =H31+M31+R31+AF31+AK31+AP31 -> 0 | AY31: =AW31-AX31 -> 0 | AZ31: =A31 -> 30th
A32: 31st | B32: 31 | C32: =VLOOKUP(B32, 'Names vlookup'!$A$1:$B$36, 2, FALSE) -> 0 | AU32: =COUNTIF(F32:AR32,"W") -> 0 | AV32: =COUNTIF(F32:AR32,"L") -> 0 | AW32: =G32+L32+Q32+AE32+AJ32+AO32 -> 0 | AX32: =H32+M32+R32+AF32+AK32+AP32 -> 0 | AY32: =AW32-AX32 -> 0 | AZ32: =A32 -> 31st
A33: 32nd | B33: 32 | C33: =VLOOKUP(B33, 'Names vlookup'!$A$1:$B$36, 2, FALSE) -> 0 | AU33: =COUNTIF(F33:AR33,"W") -> 0 | AV33: =COUNTIF(F33:AR33,"L") -> 0 | AW33: =G33+L33+Q33+AE33+AJ33+AO33 -> 0 | AX33: =H33+M33+R33+AF33+AK33+AP33 -> 0 | AY33: =AW33-AX33 -> 0 | AZ33: =A33 -> 32nd
A34: 33rd | B34: 33 | C34: =VLOOKUP(B34, 'Names vlookup'!$A$1:$B$36, 2, FALSE) -> #N/A | AU34: =COUNTIF(F34:AR34,"W") -> 0 | AV34: =COUNTIF(F34:AR34,"L") -> 0 | AW34: =G34+L34+Q34+AE34+AJ34+AO34 -> 0 | AX34: =H34+M34+R34+AF34+AK34+AP34 -> 0 | AY34: =AW34-AX34 -> 0 | AZ34: =A34 -> 33rd
A35: 34th | B35: 34 | C35: =VLOOKUP(B35, 'Names vlookup'!$A$1:$B$36, 2, FALSE) -> #N/A | AU35: =COUNTIF(F35:AR35,"W") -> 0 | AV35: =COUNTIF(F35:AR35,"L") -> 0 | AW35: =G35+L35+Q35+AE35+AJ35+AO35 -> 0 | AX35: =H35+M35+R35+AF35+AK35+AP35 -> 0 | AY35: =AW35-AX35 -> 0 | AZ35: =A35 -> 34th
A36: 35th | B36: 35 | C36: =VLOOKUP(B36, 'Names vlookup'!$A$1:$B$36, 2, FALSE) -> #N/A | AU36: =COUNTIF(F36:AR36,"W") -> 0 | AV36: =COUNTIF(F36:AR36,"L") -> 0 | AW36: =G36+L36+Q36+AE36+AJ36+AO36 -> 0 | AX36: =H36+M36+R36+AF36+AK36+AP36 -> 0 | AY36: =AW36-AX36 -> 0 | AZ36: =A36 -> 35th
A37: 36th | B37: 36 | C37: =VLOOKUP(B37, 'Names vlookup'!$A$1:$B$36, 2, FALSE) -> #N/A | AU37: =COUNTIF(F37:AR37,"W") -> 0 | AV37: =COUNTIF(F37:AR37,"L") -> 0 | AW37: =G37+L37+Q37+AE37+AJ37+AO37 -> 0 | AX37: =H37+M37+R37+AF37+AK37+AP37 -> 0 | AY37: =AW37-AX37 -> 0 | AZ37: =A37 -> 36th
A38: 37th | B38: 37 | C38: =VLOOKUP(B38, 'Names vlookup'!$A$1:$B$36, 2, FALSE) -> #N/A | AU38: =COUNTIF(F38:AR38,"W") -> 0 | AV38: =COUNTIF(F38:AR38,"L") -> 0 | AW38: =G38+L38+Q38+AE38+AJ38+AO38 -> 0 | AX38: =H38+M38+R38+AF38+AK38+AP38 -> 0 | AY38: =AW38-AX38 -> 0 | AZ38: =A38 -> 37th
A39: 38th | B39: 38 | C39: =VLOOKUP(B39, 'Names vlookup'!$A$1:$B$36, 2, FALSE) -> #N/A | AU39: =COUNTIF(F39:AR39,"W") -> 0 | AV39: =COUNTIF(F39:AR39,"L") -> 0 | AW39: =G39+L39+Q39+AE39+AJ39+AO39 -> 0 | AX39: =H39+M39+R39+AF39+AK39+AP39 -> 0 | AY39: =AW39-AX39 -> 0 | AZ39: =A39 -> 38th
F40: =F1 -> 1 | G40: =G1 -> F | H40: =H1 -> A | K40: =K1 -> 2 | L40: =L1 -> F | M40: =M1 -> A | P40: =P1 -> 3 | Q40: F | R40: A | U40: 4 | V40: F | W40: A | Z40: 5 | AA40: F | AB40: A | AD40: =AD1 -> 6 | AE40: F | AF40: A | AI40: =AI1 -> 7 | AJ40: F | AK40: A | AN40: 6 | AO40: F | AP40: A | AU40: W | AV40: L | AW40: F | AX40: A | AY40: GD

Sheet Draws, Part 2
A1: #2 | B1: Group 1 | K1: Group 2 | T1: Group 3 | AC1: Group 4 | AL1: Group 5 | AU1: Group 6
B3: 1 | C3: =VLOOKUP(B3, 'Table, end of Part 1'!$B$2:$C$39, 2, FALSE) -> Zarte Siempre | H3: 4 | I3: =VLOOKUP(H3, 'Table, end of Part 1'!$B$2:$C$39, 2, FALSE) -> Jonathan Wynn | K3: 2 | L3: =VLOOKUP(K3, 'Table, end of Part 1'!$B$2:$C$39, 2, FALSE) -> Giles Hutchings | Q3: 3 | R3: =VLOOKUP(Q3, 'Table, end of Part 1'!$B$2:$C$39, 2, FALSE) -> Graeme Cole | T3: 9 | U3: =VLOOKUP(T3, 'Table, end of Part 1'!$B$2:$C$39, 2, FALSE) -> Jon O'Neill | Z3: 12 | AA3: =VLOOKUP(Z3, 'Table, end of Part 1'!$B$2:$C$39, 2, FALSE) -> Heather Styles | AC3: 10 | AD3: =VLOOKUP(AC3, 'Table, end of Part 1'!$B$2:$C$39, 2, FALSE) -> Mike Brown | AI3: 11 | AJ3: =VLOOKUP(AI3, 'Table, end of Part 1'!$B$2:$C$39, 2, FALSE) -> Eddy Byrne | AL3: 17 | AM3: =VLOOKUP(AL3, 'Table, end of Part 1'!$B$2:$C$39, 2, FALSE) -> Toby Pereira | AR3: 19 | AS3: =VLOOKUP(AR3, 'Table, end of Part 1'!$B$2:$C$39, 2, FALSE) -> Lauren Hamer | AU3: 18 | AV3: =VLOOKUP(AU3, 'Table, end of Part 1'!$B$2:$C$39, 2, FALSE) -> Matt Morrison | BA3: 20 | BB3: =VLOOKUP(BA3, 'Table, end of Part 1'!$B$2:$C$39, 2, FALSE) -> Sean Fletcher
B5: 5 | C5: =VLOOKUP(B5, 'Table, end of Part 1'!$B$2:$C$39, 2, FALSE) -> Tom Cappleman | H5: 7 | I5: =VLOOKUP(H5, 'Table, end of Part 1'!$B$2:$C$39, 2, FALSE) -> Dan McColm | K5: 6 | L5: =VLOOKUP(K5, 'Table, end of Part 1'!$B$2:$C$39, 2, FALSE) -> Tim Down | Q5: 8 | R5: =VLOOKUP(Q5, 'Table, end of Part 1'!$B$2:$C$39, 2, FALSE) -> Ann Dibben | T5: 13 | U5: =VLOOKUP(T5, 'Table, end of Part 1'!$B$2:$C$39, 2, FALSE) -> Martin Taylor | Z5: 16 | AA5: =VLOOKUP(Z5, 'Table, end of Part 1'!$B$2:$C$39, 2, FALSE) -> Jamie Illett-Jones | AC5: 14 | AD5: =VLOOKUP(AC5, 'Table, end of Part 1'!$B$2:$C$39, 2, FALSE) -> David Hilton | AI5: 15 | AJ5: =VLOOKUP(AI5, 'Table, end of Part 1'!$B$2:$C$39, 2, FALSE) -> David Barnard | AL5: 21 | AM5: =VLOOKUP(AL5, 'Table, end of Part 1'!$B$2:$C$39, 2, FALSE) -> Jayne Wisniewski | AR5: 22 | AS5: =VLOOKUP(AR5, 'Table, end of Part 1'!$B$2:$C$39, 2, FALSE) -> Paul Talmey | AU5: 23 | AV5: =VLOOKUP(AU5, 'Table, end of Part 1'!$B$2:$C$39, 2, FALSE) -> Peter Clarke | BA5: 24 | BB5: =VLOOKUP(BA5, 'Table, end of Part 1'!$B$2:$C$39, 2, FALSE) -> Karen Pearson | BM5: Part 1 | BN5: Games 1.1 1.2 1.3
AU7: 25 | AV7: =VLOOKUP(AU7, 'Table, end of Part 1'!$B$2:$C$39, 2, FALSE) -> Margaret Marshall | BA7: 26 | BB7: =VLOOKUP(BA7, 'Table, end of Part 1'!$B$2:$C$39, 2, FALSE) -> Heather Badcock
AU9: 27 | AV9: =VLOOKUP(AU9, 'Table, end of Part 1'!$B$2:$C$39, 2, FALSE) -> Void | BA9: 28 | BB9: =VLOOKUP(BA9, 'Table, end of Part 1'!$B$2:$C$39, 2, FALSE) -> Thomas Wade
BM11: Part 2 | BN11: Games 2.1 2.2 2.3
A12: 2.1 | B12: =B3 -> 1 | C12: =VLOOKUP(B12, 'Table, end of Part 1'!$B$2:$C$39, 2, FALSE) -> Zarte Siempre | D12: 1.067 | E12: - | F12: 0.058 | H12: =H5 -> 7 | I12: =VLOOKUP(H12, 'Table, end of Part 1'!$B$2:$C$39, 2, FALSE) -> Dan McColm | K12: =K3 -> 2 | L12: =VLOOKUP(K12, 'Table, end of Part 1'!$B$2:$C$39, 2, FALSE) -> Giles Hutchings | M12: 1.068 | N12: - | O12: 0.04 | Q12: =Q5 -> 8 | R12: =VLOOKUP(Q12, 'Table, end of Part 1'!$B$2:$C$39, 2, FALSE) -> Ann Dibben | T12: =T3 -> 9 | U12: =VLOOKUP(T12, 'Table, end of Part 1'!$B$2:$C$39, 2, FALSE) -> Jon O'Neill | V12: 1.064 | W12: - | X12: 0.055 | Z12: =Z5 -> 16 | AA12: =VLOOKUP(Z12, 'Table, end of Part 1'!$B$2:$C$39, 2, FALSE) -> Jamie Illett-Jones | AC12: =AC3 -> 10 | AD12: =VLOOKUP(AC12, 'Table, end of Part 1'!$B$2:$C$39, 2, FALSE) -> Mike Brown | AE12: 0.028 | AF12: - | AG12: 1.07 | AI12: =AI5 -> 15 | AJ12: =VLOOKUP(AI12, 'Table, end of Part 1'!$B$2:$C$39, 2, FALSE) -> David Barnard | AL12: =AL3 -> 17 | AM12: =VLOOKUP(AL12, 'Table, end of Part 1'!$B$2:$C$39, 2, FALSE) -> Toby Pereira | AN12: 1.047 | AO12: - | AP12: 0.041 | AR12: =AR5 -> 22 | AS12: =VLOOKUP(AR12, 'Table, end of Part 1'!$B$2:$C$39, 2, FALSE) -> Paul Talmey | AU12: 18 | AV12: =VLOOKUP(AU12, 'Table, end of Part 1'!$B$2:$C$39, 2, FALSE) -> Matt Morrison | AW12: 0.047 | AX12: - | AY12: 1.052 | BA12: 24 | BB12: =VLOOKUP(BA12, 'Table, end of Part 1'!$B$2:$C$39, 2, FALSE) -> Karen Pearson | BD12: 25 | BE12: =VLOOKUP(BD12, 'Table, end of Part 1'!$B$2:$C$39, 2, FALSE) -> Margaret Marshall | BF12: 1.045 | BG12: - | BH12: 0.038 | BJ12: 27 | BK12: =VLOOKUP(BJ12, 'Table, end of Part 1'!$B$2:$C$39, 2, FALSE) -> Void
BM13: Part 3 | BN13: Game 7 (semi-final)
A14: 2.1 | B14: =H3 -> 4 | C14: =VLOOKUP(B14, 'Table, end of Part 1'!$B$2:$C$39, 2, FALSE) -> Jonathan Wynn | D14: 0.054 | E14: - | F14: 1.064 | H14: =B5 -> 5 | I14: =VLOOKUP(H14, 'Table, end of Part 1'!$B$2:$C$39, 2, FALSE) -> Tom Cappleman | K14: =Q3 -> 3 | L14: =VLOOKUP(K14, 'Table, end of Part 1'!$B$2:$C$39, 2, FALSE) -> Graeme Cole | M14: 1.053 | N14: - | O14: 0.043 | Q14: =K5 -> 6 | R14: =VLOOKUP(Q14, 'Table, end of Part 1'!$B$2:$C$39, 2, FALSE) -> Tim Down | T14: =Z3 -> 12 | U14: =VLOOKUP(T14, 'Table, end of Part 1'!$B$2:$C$39, 2, FALSE) -> Heather Styles | V14: 0.035 | W14: - | X14: 1.05 | Z14: =T5 -> 13 | AA14: =VLOOKUP(Z14, 'Table, end of Part 1'!$B$2:$C$39, 2, FALSE) -> Martin Taylor | AC14: =AI3 -> 11 | AD14: =VLOOKUP(AC14, 'Table, end of Part 1'!$B$2:$C$39, 2, FALSE) -> Eddy Byrne | AE14: 1.05 | AF14: - | AG14: 0.03 | AI14: =AC5 -> 14 | AJ14: =VLOOKUP(AI14, 'Table, end of Part 1'!$B$2:$C$39, 2, FALSE) -> David Hilton | AL14: =AR3 -> 19 | AM14: =VLOOKUP(AL14, 'Table, end of Part 1'!$B$2:$C$39, 2, FALSE) -> Lauren Hamer | AN14: 1.05 | AO14: - | AP14: 0.036 | AR14: =AL5 -> 21 | AS14: =VLOOKUP(AR14, 'Table, end of Part 1'!$B$2:$C$39, 2, FALSE) -> Jayne Wisniewski | AU14: 23 | AV14: =VLOOKUP(AU14, 'Table, end of Part 1'!$B$2:$C$39, 2, FALSE) -> Peter Clarke | AW14: 1.051 | AX14: - | AY14: 0.036 | BA14: 26 | BB14: =VLOOKUP(BA14, 'Table, end of Part 1'!$B$2:$C$39, 2, FALSE) -> Heather Badcock | BD14: 28 | BE14: =VLOOKUP(BD14, 'Table, end of Part 1'!$B$2:$C$39, 2, FALSE) -> Thomas Wade | BF14: 0.027 | BG14: - | BH14: 1.053 | BJ14: 20 | BK14: =VLOOKUP(BJ14, 'Table, end of Part 1'!$B$2:$C$39, 2, FALSE) -> Sean Fletcher | BN14: 1st vs 4th, 2nd vs 3rd
BM15: Grand Final
A17: 2.2 | B17: =B5 -> 5 | C17: =VLOOKUP(B17, 'Table, end of Part 1'!$B$2:$C$39, 2, FALSE) -> Tom Cappleman | D17: 0.05 | E17: - | F17: 1.067 | H17: =B3 -> 1 | I17: =VLOOKUP(H17, 'Table, end of Part 1'!$B$2:$C$39, 2, FALSE) -> Zarte Siempre | K17: =K5 -> 6 | L17: =VLOOKUP(K17, 'Table, end of Part 1'!$B$2:$C$39, 2, FALSE) -> Tim Down | M17: 0.05 | N17: - | O17: 1.068 | Q17: =K3 -> 2 | R17: =VLOOKUP(Q17, 'Table, end of Part 1'!$B$2:$C$39, 2, FALSE) -> Giles Hutchings | T17: =T5 -> 13 | U17: =VLOOKUP(T17, 'Table, end of Part 1'!$B$2:$C$39, 2, FALSE) -> Martin Taylor | V17: 0.03 | W17: - | X17: 1.058 | Z17: =T3 -> 9 | AA17: =VLOOKUP(Z17, 'Table, end of Part 1'!$B$2:$C$39, 2, FALSE) -> Jon O'Neill | AC17: =AC5 -> 14 | AD17: =VLOOKUP(AC17, 'Table, end of Part 1'!$B$2:$C$39, 2, FALSE) -> David Hilton | AE17: 0.029 | AF17: - | AG17: 1.053 | AI17: =AC3 -> 10 | AJ17: =VLOOKUP(AI17, 'Table, end of Part 1'!$B$2:$C$39, 2, FALSE) -> Mike Brown | AL17: =AL5 -> 21 | AM17: =VLOOKUP(AL17, 'Table, end of Part 1'!$B$2:$C$39, 2, FALSE) -> Jayne Wisniewski | AN17: 0.034 | AO17: - | AP17: 1.041 | AR17: =AL3 -> 17 | AS17: =VLOOKUP(AR17, 'Table, end of Part 1'!$B$2:$C$39, 2, FALSE) -> Toby Pereira | AU17: 28 | AV17: =VLOOKUP(AU17, 'Table, end of Part 1'!$B$2:$C$39, 2, FALSE) -> Thomas Wade | AW17: 0.039 | AX17: - | AY17: 1.049 | BA17: 23 | BB17: =VLOOKUP(BA17, 'Table, end of Part 1'!$B$2:$C$39, 2, FALSE) -> Peter Clarke | BD17: 27 | BE17: =VLOOKUP(BD17, 'Table, end of Part 1'!$B$2:$C$39, 2, FALSE) -> Void | BF17: 0.038 | BG17: - | BH17: 1.049 | BJ17: 24 | BK17: =VLOOKUP(BJ17, 'Table, end of Part 1'!$B$2:$C$39, 2, FALSE) -> Karen Pearson
A19: 2.2 | B19: =H5 -> 7 | C19: =VLOOKUP(B19, 'Table, end of Part 1'!$B$2:$C$39, 2, FALSE) -> Dan McColm | D19: 1.059 | E19: - | F19: 0.049 | H19: =H3 -> 4 | I19: =VLOOKUP(H19, 'Table, end of Part 1'!$B$2:$C$39, 2, FALSE) -> Jonathan Wynn | K19: =Q5 -> 8 | L19: =VLOOKUP(K19, 'Table, end of Part 1'!$B$2:$C$39, 2, FALSE) -> Ann Dibben | M19: 0.038 | N19: - | O19: 1.043 | Q19: =Q3 -> 3 | R19: =VLOOKUP(Q19, 'Table, end of Part 1'!$B$2:$C$39, 2, FALSE) -> Graeme Cole | T19: =Z5 -> 16 | U19: =VLOOKUP(T19, 'Table, end of Part 1'!$B$2:$C$39, 2, FALSE) -> Jamie Illett-Jones | V19: 1.053 | W19: - | X19: 0.051 | Z19: =Z3 -> 12 | AA19: =VLOOKUP(Z19, 'Table, end of Part 1'!$B$2:$C$39, 2, FALSE) -> Heather Styles | AC19: =AI5 -> 15 | AD19: =VLOOKUP(AC19, 'Table, end of Part 1'!$B$2:$C$39, 2, FALSE) -> David Barnard | AE19: 1.058 | AF19: - | AG19: 0.049 | AI19: =AI3 -> 11 | AJ19: =VLOOKUP(AI19, 'Table, end of Part 1'!$B$2:$C$39, 2, FALSE) -> Eddy Byrne | AL19: =AR5 -> 22 | AM19: =VLOOKUP(AL19, 'Table, end of Part 1'!$B$2:$C$39, 2, FALSE) -> Paul Talmey | AN19: 0.041 | AO19: - | AP19: 1.052 | AR19: =AR3 -> 19 | AS19: =VLOOKUP(AR19, 'Table, end of Part 1'!$B$2:$C$39, 2, FALSE) -> Lauren Hamer | AU19: 20 | AV19: =VLOOKUP(AU19, 'Table, end of Part 1'!$B$2:$C$39, 2, FALSE) -> Sean Fletcher | AW19: 1.04 | AX19: - | AY19: 0.033 | BA19: 25 | BB19: =VLOOKUP(BA19, 'Table, end of Part 1'!$B$2:$C$39, 2, FALSE) -> Margaret Marshall | BD19: 18 | BE19: =VLOOKUP(BD19, 'Table, end of Part 1'!$B$2:$C$39, 2, FALSE) -> Matt Morrison | BF19: 1.058 | BG19: - | BH19: 0.05 | BJ19: 26 | BK19: =VLOOKUP(BJ19, 'Table, end of Part 1'!$B$2:$C$39, 2, FALSE) -> Heather Badcock
A22: 2.3 | B22: =B3 -> 1 | C22: =VLOOKUP(B22, 'Table, end of Part 1'!$B$2:$C$39, 2, FALSE) -> Zarte Siempre | D22: 0.043 | E22: - | F22: 1.05 | H22: =H3 -> 4 | I22: =VLOOKUP(H22, 'Table, end of Part 1'!$B$2:$C$39, 2, FALSE) -> Jonathan Wynn | K22: =K3 -> 2 | L22: =VLOOKUP(K22, 'Table, end of Part 1'!$B$2:$C$39, 2, FALSE) -> Giles Hutchings | M22: 0.054 | N22: - | O22: 1.058 | Q22: =Q3 -> 3 | R22: =VLOOKUP(Q22, 'Table, end of Part 1'!$B$2:$C$39, 2, FALSE) -> Graeme Cole | T22: =T3 -> 9 | U22: =VLOOKUP(T22, 'Table, end of Part 1'!$B$2:$C$39, 2, FALSE) -> Jon O'Neill | V22: 1.042 | W22: - | X22: 0.025 | Z22: =Z3 -> 12 | AA22: =VLOOKUP(Z22, 'Table, end of Part 1'!$B$2:$C$39, 2, FALSE) -> Heather Styles | AC22: =AC3 -> 10 | AD22: =VLOOKUP(AC22, 'Table, end of Part 1'!$B$2:$C$39, 2, FALSE) -> Mike Brown | AE22: 1.057 | AF22: - | AG22: 0.054 | AI22: =AI3 -> 11 | AJ22: =VLOOKUP(AI22, 'Table, end of Part 1'!$B$2:$C$39, 2, FALSE) -> Eddy Byrne | AL22: =AL3 -> 17 | AM22: =VLOOKUP(AL22, 'Table, end of Part 1'!$B$2:$C$39, 2, FALSE) -> Toby Pereira | AN22: 1.056 | AO22: - | AP22: 0.046 | AR22: =AR3 -> 19 | AS22: =VLOOKUP(AR22, 'Table, end of Part 1'!$B$2:$C$39, 2, FALSE) -> Lauren Hamer | AU22: 25 | AV22: =VLOOKUP(AU22, 'Table, end of Part 1'!$B$2:$C$39, 2, FALSE) -> Margaret Marshall | AW22: 0.035 | AX22: - | AY22: 1.055 | BA22: 24 | BB22: =VLOOKUP(BA22, 'Table, end of Part 1'!$B$2:$C$39, 2, FALSE) -> Karen Pearson | BD22: 23 | BE22: =VLOOKUP(BD22, 'Table, end of Part 1'!$B$2:$C$39, 2, FALSE) -> Peter Clarke | BF22: 1.054 | BG22: - | BH22: 0.047 | BJ22: 18 | BK22: =VLOOKUP(BJ22, 'Table, end of Part 1'!$B$2:$C$39, 2, FALSE) -> Matt Morrison
A24: 2.3 | B24: =H5 -> 7 | C24: =VLOOKUP(B24, 'Table, end of Part 1'!$B$2:$C$39, 2, FALSE) -> Dan McColm | D24: 0.038 | E24: - | F24: 1.059 | H24: =B5 -> 5 | I24: =VLOOKUP(H24, 'Table, end of Part 1'!$B$2:$C$39, 2, FALSE) -> Tom Cappleman | K24: =Q5 -> 8 | L24: =VLOOKUP(K24, 'Table, end of Part 1'!$B$2:$C$39, 2, FALSE) -> Ann Dibben | M24: 0.047 | N24: - | O24: 1.054 | Q24: =K5 -> 6 | R24: =VLOOKUP(Q24, 'Table, end of Part 1'!$B$2:$C$39, 2, FALSE) -> Tim Down | T24: =Z5 -> 16 | U24: =VLOOKUP(T24, 'Table, end of Part 1'!$B$2:$C$39, 2, FALSE) -> Jamie Illett-Jones | V24: 1.045 | W24: - | X24: 0.031 | Z24: =T5 -> 13 | AA24: =VLOOKUP(Z24, 'Table, end of Part 1'!$B$2:$C$39, 2, FALSE) -> Martin Taylor | AC24: =AI5 -> 15 | AD24: =VLOOKUP(AC24, 'Table, end of Part 1'!$B$2:$C$39, 2, FALSE) -> David Barnard | AE24: 1.066 | AF24: - | AG24: 0.044 | AI24: =AC5 -> 14 | AJ24: =VLOOKUP(AI24, 'Table, end of Part 1'!$B$2:$C$39, 2, FALSE) -> David Hilton | AL24: =AR5 -> 22 | AM24: =VLOOKUP(AL24, 'Table, end of Part 1'!$B$2:$C$39, 2, FALSE) -> Paul Talmey | AN24: 0.019 | AO24: - | AP24: 1.044 | AR24: =AL5 -> 21 | AS24: =VLOOKUP(AR24, 'Table, end of Part 1'!$B$2:$C$39, 2, FALSE) -> Jayne Wisniewski | AU24: 28 | AV24: =VLOOKUP(AU24, 'Table, end of Part 1'!$B$2:$C$39, 2, FALSE) -> Thomas Wade | AW24: 0.023 | AX24: - | AY24: 1.046 | BA24: 27 | BB24: =VLOOKUP(BA24, 'Table, end of Part 1'!$B$2:$C$39, 2, FALSE) -> Void | BD24: 20 | BE24: =VLOOKUP(BD24, 'Table, end of Part 1'!$B$2:$C$39, 2, FALSE) -> Sean Fletcher | BF24: 1.049 | BG24: - | BH24: 0.031 | BJ24: 26 | BK24: =VLOOKUP(BJ24, 'Table, end of Part 1'!$B$2:$C$39, 2, FALSE) -> Heather Badcock

Sheet Table, end of Part 2
B1: Position after Part 1 | F1: 1 | G1: F | H1: A | K1: 2 | L1: F | M1: A | P1: 3 | Q1: F | R1: A | U1: 4 | V1: F | W1: A | Z1: 5 | AA1: F | AB1: A | AD1: 6 | AE1: F | AF1: A | AI1: 7 | AJ1: F | AK1: A | AN1: 6 | AO1: F | AP1: A | AU1: W | AV1: L | AW1: F | AX1: A | AY1: GD
A2: 1st | B2: 3 | C2: Graeme Cole | F2: W | G2: 62 | H2: 41 | K2: W | L2: 72 | M2: 33 | P2: W | Q2: 62 | R2: 59 | U2: W | V2: 53 | W2: 43 | Z2: W | AA2: 43 | AB2: 38 | AD2: W | AE2: 58 | AF2: 54 | AU2: 6 | AV2: 0 | AW2: 350 | AX2: 268 | AY2: 82 | AZ2: 1st | BC2: B2 - AY2, down
A3: 2nd | B3: 1 | C3: Zarte Siempre | F3: W | G3: 82 | H3: 60 | K3: W | L3: 62 | M3: 39 | P3: W | Q3: 70 | R3: 32 | U3: W | V3: 67 | W3: 58 | Z3: W | AA3: 67 | AB3: 50 | AD3: L | AE3: 43 | AF3: 50 | AU3: 5 | AV3: 1 | AW3: 391 | AX3: 289 | AY3: 102 | AZ3: 2nd
A4: 3rd | B4: 2 | C4: Giles Hutchings | F4: W | G4: 76 | H4: 44 | K4: W | L4: 69 | M4: 21 | P4: W | Q4: 53 | R4: 39 | U4: W | V4: 68 | W4: 40 | Z4: W | AA4: 68 | AB4: 50 | AD4: L | AE4: 54 | AF4: 58 | AU4: 5 | AV4: 1 | AW4: 388 | AX4: 252 | AY4: 136 | AZ4: 3rd
A5: 4th | B5: 5 | C5: Tom Cappleman | F5: W | G5: 62 | H5: 59 | K5: W | L5: 68 | M5: 46 | P5: W | Q5: 60 | R5: 24 | U5: W | V5: 64 | W5: 54 | Z5: L | AA5: 50 | AB5: 67 | AD5: W | AE5: 59 | AF5: 38 | AU5: 5 | AV5: 1 | AW5: 363 | AX5: 288 | AY5: 75 | AZ5: 4th
A6: 5th | B6: 9 | C6: Jon O'Neill | F6: W | G6: 73 | H6: 27 | K6: L | L6: 44 | M6: 66 | P6: W | Q6: 63 | R6: 46 | U6: W | V6: 64 | W6: 55 | Z6: W | AA6: 58 | AB6: 30 | AD6: W | AE6: 42 | AF6: 25 | AU6: 5 | AV6: 1 | AW6: 344 | AX6: 249 | AY6: 95 | AZ6: 5th
A7: 6th | B7: 15 | C7: David Barnard | F7: L | G7: 55 | H7: 69 | K7: W | L7: 66 | M7: 36 | P7: L | Q7: 46 | R7: 63 | U7: W | V7: 70 | W7: 28 | Z7: W | AA7: 58 | AB7: 49 | AD7: W | AE7: 66 | AF7: 44 | AU7: 4 | AV7: 2 | AW7: 361 | AX7: 289 | AY7: 72 | AZ7: 6th
A8: 7th | B8: 4 | C8: Jonathan Wynn | F8: W | G8: 69 | H8: 55 | K8: W | L8: 66 | M8: 44 | P8: W | Q8: 59 | R8: 45 | U8: L | V8: 54 | W8: 64 | Z8: L | AA8: 49 | AB8: 59 | AD8: W | AE8: 50 | AF8: 43 | AU8: 4 | AV8: 2 | AW8: 347 | AX8: 310 | AY8: 37 | AZ8: 7th
A9: 8th | B9: 6 | C9: Tim Down | F9: W | G9: 56 | H9: 51 | K9: W | L9: 75 | M9: 4 | P9: W | Q9: 47 | R9: 16 | U9: L | V9: 43 | W9: 53 | Z9: L | AA9: 50 | AB9: 68 | AD9: W | AE9: 54 | AF9: 47 | AU9: 4 | AV9: 2 | AW9: 325 | AX9: 239 | AY9: 86 | AZ9: 8th
A10: 9th | B10: 10 | C10: Mike Brown | F10: L | G10: 44 | H10: 76 | K10: W | L10: 69 | M10: 47 | P10: W | Q10: 51 | R10: 42 | U10: L | V10: 28 | W10: 70 | Z10: W | AA10: 53 | AB10: 29 | AD10: W | AE10: 57 | AF10: 54 | AU10: 4 | AV10: 2 | AW10: 302 | AX10: 318 | AY10: -16 | AZ10: 9th
A11: 10th | B11: 17 | C11: Toby Pereira | F11: L | G11: 45 | H11: 48 | K11: L | L11: 46 | M11: 68 | P11: W | Q11: 58 | R11: 41 | U11: W | V11: 47 | W11: 41 | Z11: W | AA11: 41 | AB11: 34 | AD11: W | AE11: 56 | AF11: 46 | AU11: 4 | AV11: 2 | AW11: 293 | AX11: 278 | AY11: 15 | AZ11: 10th
A12: 11th | B12: 20 | C12: Sean Fletcher | F12: W | G12: 48 | H12: 45 | K12: L | L12: 53 | M12: 61 | P12: L | Q12: 24 | R12: 60 | U12: W | V12: 53 | W12: 27 | Z12: W | AA12: 40 | AB12: 33 | AD12: W | AE12: 49 | AF12: 31 | AU12: 4 | AV12: 2 | AW12: 267 | AX12: 257 | AY12: 10 | AZ12: 11th
A13: 12th | B13: 7 | C13: Dan McColm | F13: W | G13: 63 | H13: 41 | K13: W | L13: 72 | M13: 39 | P13: L | Q13: 59 | R13: 62 | U13: L | V13: 58 | W13: 67 | Z13: W | AA13: 59 | AB13: 49 | AD13: L | AE13: 38 | AF13: 59 | AU13: 3 | AV13: 3 | AW13: 349 | AX13: 317 | AY13: 32 | AZ13: 12th
A14: 13th | B14: 16 | C14: Jamie Illett-Jones | F14: L | G14: 59 | H14: 62 | K14: W | L14: 61 | M14: 53 | P14: L | Q14: 41 | R14: 58 | U14: L | V14: 55 | W14: 64 | Z14: W | AA14: 53 | AB14: 51 | AD14: W | AE14: 45 | AF14: 31 | AU14: 3 | AV14: 3 | AW14: 314 | AX14: 319 | AY14: -5 | AZ14: 13th
... A29: 28th | B29: 28 | C29: Thomas Wade | F29: L | G29: 13 | H29: 53 | K29: L | L29: 4 | M29: 75 | P29: L | Q29: 12 | R29: 52 | U29: L | V29: 27 | W29: 53 | Z29: L | AA29: 39 | AB29: 49 | AD29: L | AE29: 23 | AF29: 46 | AU29: 0 | AV29: 6 | AW29: 118 | AX29: 328 | AY29: -210 | AZ29: 28th
F30: 1 | G30: F | H30: A | K30: 2 | L30: F | M30: A | P30: 3 | Q30: F | R30: A | U30: 4 | V30: F | W30: A | Z30: 5 | AA30: F | AB30: A | AD30: 6 | AE30: F | AF30: A | AI30: 7 | AJ30: F | AK30: A | AN30: 6 | AO30: F | AP30: A | AU30: W | AV30: L | AW30: F | AX30: A | AY30: GD

Sheet Draws, Part 3
A1: #3 | B1: Top four: semi-final
B3: 1 | C3: Graeme Cole | D3: 0.043 | E3: - | F3: 1.057 | H3: 4 | I3: Tom Cappleman
B5: 2 | C5: Zarte Siempre | D5: 1.061 | E5: - | F5: 0.058 | H5: 3 | I5: Giles Hutchings | L5: 15 | M5: Lauren Hamer | N5: 0.036 | O5: - | P5: 1.046 | R5: 16 | S5: Peter Clarke
B8: Mainstream: final matches | L8: 17 | M8: Karen Pearson | N8: 0.051 | O8: - | P8: 0.051 | R8: 18 | S8: Martin Taylor
B11: 5 | C11: Jon O'Neill | D11: 1.059 | E11: - | F11: 0.054 | H11: 6 | I11: David Barnard | L11: 19 | M11: Ann Dibben | N11: 0.052 | O11: - | P11: 1.06 | R11: 20 | S11: Matt Morrison
B14: 7 | C14: Jonathan Wynn | D14: 1.068 | E14: - | F14: 0.058 | H14: 8 | I14: Tim Down | L14: 21 | M14: Heather Styles | N14: 1.047 | O14: - | P14: 0.037 | R14: 22 | S14: Jayne Wisniewski
B17: 9 | C17: Mike Brown | D17: 1.059 | E17: - | F17: 0.051 | H17: 10 | I17: Toby Pereira | L17: 23 | M17: David Hilton | N17: 1.058 | O17: - | P17: 0.051 | R17: 24 | S17: Margaret Marshall
B20: 11 | C20: Sean Fletcher | D20: 0.046 | E20: - | F20: 1.067 | H20: 12 | I20: Dan McColm | L20: 25 | M20: Void | N20: 1.057 | O20: - | P20: 0.05 | R20: 26 | S20: Paul Talmey
B23: 13 | C23: Eddy Byrne | D23: 0.047 | E23: - | F23: 1.065 | H23: 14 | I23: Jamie Illett-Jones | L23: 27 | M23: Heather Badcock | N23: 1.051 | O23: - | P23: 0.032 | R23: 28 | S23: Thomas Wade

Sheet Table, end of Part 3
F1: 1 | G1: F | H1: A | K1: 2 | L1: F | M1: A | P1: 3 | Q1: F | R1: A | U1: 4 | V1: F | W1: A | Z1: 5 | AA1: F | AB1: A | AD1: 6 | AE1: F | AF1: A | AJ1: W | AK1: L | AL1: F | AM1: A | AN1: GD | AR1: 7 | AS1: F | AT1: A | AU1: W | AV1: L | AW1: F | AX1: Avg/rnd | AY1: A | AZ1: GD | BG1: FOCAL points
A2: 1st | B2: 2 | C2: Zarte Siempre | F2: W | G2: 82 | H2: 60 | K2: W | L2: 62 | M2: 39 | P2: W | Q2: 70 | R2: 32 | U2: W | V2: 67 | W2: 58 | Z2: W | AA2: 67 | AB2: 50 | AD2: L | AE2: 43 | AF2: 50 | AJ2: =COUNTIF(F2:AF2,"W") -> 5 | AK2: =COUNTIF(F2:AF2,"L") -> 1 | AL2: =G2+L2+Q2+V2+AA2+AE2 -> 391 | AM2: =H2+M2+R2+W2+AB2+AF2 -> 289 | AN2: =AL2-AM2 -> 102 | AR2: W | AS2: 61 | AT2: 58 | AU2: =COUNTIF(F2:AT2,"W") -> 6 | AV2: =COUNTIF(F2:AR2,"L") -> 1 | AW2: =AL2+AS2 -> 452 | AX2: =AW2/63 -> 7.1746032 | AY2: =AM2+AT2 -> 347 | AZ2: =AW2-AY2 -> 105 | BD2: GF | BE2: ZS 118-92 TC | BG2: 56
A3: 2nd | B3: 4 | C3: Tom Cappleman | F3: W | G3: 62 | H3: 59 | K3: W | L3: 68 | M3: 46 | P3: W | Q3: 60 | R3: 24 | U3: W | V3: 64 | W3: 54 | Z3: L | AA3: 50 | AB3: 67 | AD3: W | AE3: 59 | AF3: 38 | AJ3: =COUNTIF(F3:AF3,"W") -> 5 | AK3: =COUNTIF(F3:AF3,"L") -> 1 | AL3: =G3+L3+Q3+V3+AA3+AE3 -> 363 | AM3: =H3+M3+R3+W3+AB3+AF3 -> 288 | AN3: =AL3-AM3 -> 75 | AR3: W | AS3: 57 | AT3: 43 | AU3: =COUNTIF(F3:AT3,"W") -> 6 | AV3: =COUNTIF(F3:AR3,"L") -> 1 | AW3: =AL3+AS3 -> 420 | AX3: =AW3/63 -> 6.6666667 | AY3: =AM3+AT3 -> 331 | AZ3: =AW3-AY3 -> 89 | BG3: 54
A4: 3rd | B4: 3 | C4: Giles Hutchings | F4: W | G4: 76 | H4: 44 | K4: W | L4: 69 | M4: 21 | P4: W | Q4: 53 | R4: 39 | U4: W | V4: 68 | W4: 40 | Z4: W | AA4: 68 | AB4: 50 | AD4: L | AE4: 54 | AF4: 58 | AJ4: =COUNTIF(F4:AF4,"W") -> 5 | AK4: =COUNTIF(F4:AF4,"L") -> 1 | AL4: =G4+L4+Q4+V4+AA4+AE4 -> 388 | AM4: =H4+M4+R4+W4+AB4+AF4 -> 252 | AN4: =AL4-AM4 -> 136 | AR4: L | AS4: 58 | AT4: 61 | AU4: =COUNTIF(F4:AT4,"W") -> 5 | AV4: =COUNTIF(F4:AR4,"L") -> 2 | AW4: =AL4+AS4 -> 446 | AX4: =AW4/63 -> 7.0793651 | AY4: =AM4+AT4 -> 313 | AZ4: =AW4-AY4 -> 133 | BD4: 3rd | BE4: GH 104-94 GC | BG4: 52
A5: 4th | B5: 1 | C5: Graeme Cole | F5: W | G5: 62 | H5: 41 | K5: W | L5: 72 | M5: 33 | P5: W | Q5: 62 | R5: 59 | U5: W | V5: 53 | W5: 43 | Z5: W | AA5: 43 | AB5: 38 | AD5: W | AE5: 58 | AF5: 54 | AJ5: =COUNTIF(F5:AF5,"W") -> 6 | AK5: =COUNTIF(F5:AF5,"L") -> 0 | AL5: =G5+L5+Q5+V5+AA5+AE5 -> 350 | AM5: =H5+M5+R5+W5+AB5+AF5 -> 268 | AN5: =AL5-AM5 -> 82 | AR5: L | AS5: 43 | AT5: 57 | AU5: =COUNTIF(F5:AT5,"W") -> 6 | AV5: =COUNTIF(F5:AR5,"L") -> 1 | AW5: =AL5+AS5 -> 393 | AX5: =AW5/63 -> 6.2380952 | AY5: =AM5+AT5 -> 325 | AZ5: =AW5-AY5 -> 68 | BG5: 50
A6: 5th | B6: 5 | C6: Jon O'Neill | F6: W | G6: 73 | H6: 27 | K6: L | L6: 44 | M6: 66 | P6: W | Q6: 63 | R6: 46 | U6: W | V6: 64 | W6: 55 | Z6: W | AA6: 58 | AB6: 30 | AD6: W | AE6: 42 | AF6: 25 | AJ6: =COUNTIF(F6:AF6,"W") -> 5 | AK6: =COUNTIF(F6:AF6,"L") -> 1 | AL6: =G6+L6+Q6+V6+AA6+AE6 -> 344 | AM6: =H6+M6+R6+W6+AB6+AF6 -> 249 | AN6: =AL6-AM6 -> 95 | AR6: W | AS6: 59 | AT6: 54 | AU6: =COUNTIF(F6:AT6,"W") -> 6 | AV6: =COUNTIF(F6:AR6,"L") -> 1 | AW6: =AL6+AS6 -> 403 | AX6: =AW6/63 -> 6.3968254 | AY6: =AM6+AT6 -> 303 | AZ6: =AW6-AY6 -> 100 | BG6: 48
A7: 6th | B7: 6 | C7: David Barnard | F7: L | G7: 55 | H7: 69 | K7: W | L7: 66 | M7: 36 | P7: L | Q7: 46 | R7: 63 | U7: W | V7: 70 | W7: 28 | Z7: W | AA7: 58 | AB7: 49 | AD7: W | AE7: 66 | AF7: 44 | AJ7: 4 | AK7: 2 | AL7: 361 | AM7: 289 | AN7: 72 | AR7: L | AS7: 54 | AT7: 59 | AU7: =COUNTIF(F7:AT7,"W") -> 4 | AV7: =COUNTIF(F7:AR7,"L") -> 3 | AW7: =AL7+AS7 -> 415 | AX7: =AW7/63 -> 6.5873016 | AY7: =AM7+AT7 -> 348 | AZ7: =AW7-AY7 -> 67 | BG7: 46
A8: 7th | B8: 7 | C8: Jonathan Wynn | F8: W | G8: 69 | H8: 55 | K8: W | L8: 66 | M8: 44 | P8: W | Q8: 59 | R8: 45 | U8: L | V8: 54 | W8: 64 | Z8: L | AA8: 49 | AB8: 59 | AD8: W | AE8: 50 | AF8: 43 | AJ8: =COUNTIF(F8:AF8,"W") -> 4 | AK8: =COUNTIF(F8:AF8,"L") -> 2 | AL8: =G8+L8+Q8+V8+AA8+AE8 -> 347 | AM8: =H8+M8+R8+W8+AB8+AF8 -> 310 | AN8: =AL8-AM8 -> 37 | AR8: W | AS8: 68 | AT8: 58 | AU8: =COUNTIF(F8:AT8,"W") -> 5 | AV8: =COUNTIF(F8:AR8,"L") -> 2 | AW8: =AL8+AS8 -> 415 | AX8: =AW8/63 -> 6.5873016 | AY8: =AM8+AT8 -> 368 | AZ8: =AW8-AY8 -> 47 | BG8: 44
A9: 8th | B9: 8 | C9: Tim Down | F9: W | G9: 56 | H9: 51 | K9: W | L9: 75 | M9: 4 | P9: W | Q9: 47 | R9: 16 | U9: L | V9: 43 | W9: 53 | Z9: L | AA9: 50 | AB9: 68 | AD9: W | AE9: 54 | AF9: 47 | AJ9: =COUNTIF(F9:AF9,"W") -> 4 | AK9: =COUNTIF(F9:AF9,"L") -> 2 | AL9: =G9+L9+Q9+V9+AA9+AE9 -> 325 | AM9: =H9+M9+R9+W9+AB9+AF9 -> 239 | AN9: =AL9-AM9 -> 86 | AR9: L | AS9: 58 | AT9: 68 | AU9: =COUNTIF(F9:AT9,"W") -> 4 | AV9: =COUNTIF(F9:AR9,"L") -> 3 | AW9: =AL9+AS9 -> 383 | AX9: =AW9/63 -> 6.0793651 | AY9: =AM9+AT9 -> 307 | AZ9: =AW9-AY9 -> 76 | BG9: 42
A10: 9th | B10: 9 | C10: Mike Brown | F10: L | G10: 44 | H10: 76 | K10: W | L10: 69 | M10: 47 | P10: W | Q10: 51 | R10: 42 | U10: L | V10: 28 | W10: 70 | Z10: W | AA10: 53 | AB10: 29 | AD10: W | AE10: 57 | AF10: 54 | AJ10: =COUNTIF(F10:AF10,"W") -> 4 | AK10: =COUNTIF(F10:AF10,"L") -> 2 | AL10: =G10+L10+Q10+V10+AA10+AE10 -> 302 | AM10: =H10+M10+R10+W10+AB10+AF10 -> 318 | AN10: =AL10-AM10 -> -16 | AR10: W | AS10: 59 | AT10: 51 | AU10: =COUNTIF(F10:AT10,"W") -> 5 | AV10: =COUNTIF(F10:AR10,"L") -> 2 | AW10: =AL10+AS10 -> 361 | AX10: =AW10/63 -> 5.7301587 | AY10: =AM10+AT10 -> 369 | AZ10: =AW10-AY10 -> -8 | BG10: 40
A11: 10th | B11: 10 | C11: Toby Pereira | F11: L | G11: 45 | H11: 48 | K11: L | L11: 46 | M11: 68 | P11: W | Q11: 58 | R11: 41 | U11: W | V11: 47 | W11: 41 | Z11: W | AA11: 41 | AB11: 34 | AD11: W | AE11: 56 | AF11: 46 | AJ11: =COUNTIF(F11:AF11,"W") -> 4 | AK11: =COUNTIF(F11:AF11,"L") -> 2 | AL11: =G11+L11+Q11+V11+AA11+AE11 -> 293 | AM11: =H11+M11+R11+W11+AB11+AF11 -> 278 | AN11: =AL11-AM11 -> 15 | AR11: L | AS11: 51 | AT11: 59 | AU11: =COUNTIF(F11:AT11,"W") -> 4 | AV11: =COUNTIF(F11:AR11,"L") -> 3 | AW11: =AL11+AS11 -> 344 | AX11: =AW11/63 -> 5.4603175 | AY11: =AM11+AT11 -> 337 | AZ11: =AW11-AY11 -> 7 | BG11: 38
A12: 11th | B12: 11 | C12: Dan McColm | F12: W | G12: 63 | H12: 41 | K12: W | L12: 72 | M12: 39 | P12: L | Q12: 59 | R12: 62 | U12: L | V12: 58 | W12: 67 | Z12: W | AA12: 59 | AB12: 49 | AD12: L | AE12: 38 | AF12: 59 | AJ12: =COUNTIF(F12:AF12,"W") -> 3 | AK12: =COUNTIF(F12:AF12,"L") -> 3 | AL12: =G12+L12+Q12+V12+AA12+AE12 -> 349 | AM12: =H12+M12+R12+W12+AB12+AF12 -> 317 | AN12: =AL12-AM12 -> 32 | AR12: W | AS12: 67 | AT12: 46 | AU12: =COUNTIF(F12:AT12,"W") -> 4 | AV12: =COUNTIF(F12:AR12,"L") -> 3 | AW12: =AL12+AS12 -> 416 | AX12: =AW12/63 -> 6.6031746 | AY12: =AM12+AT12 -> 363 | AZ12: =AW12-AY12 -> 53 | BG12: 36
A13: 12th | B13: 12 | C13: Sean Fletcher | F13: W | G13: 48 | H13: 45 | K13: L | L13: 53 | M13: 61 | P13: L | Q13: 24 | R13: 60 | U13: W | V13: 53 | W13: 27 | Z13: W | AA13: 40 | AB13: 33 | AD13: W | AE13: 49 | AF13: 31 | AJ13: =COUNTIF(F13:AF13,"W") -> 4 | AK13: =COUNTIF(F13:AF13,"L") -> 2 | AL13: =G13+L13+Q13+V13+AA13+AE13 -> 267 | AM13: =H13+M13+R13+W13+AB13+AF13 -> 257 | AN13: =AL13-AM13 -> 10 | AR13: L | AS13: 46 | AT13: 67 | AU13: =COUNTIF(F13:AT13,"W") -> 4 | AV13: =COUNTIF(F13:AR13,"L") -> 3 | AW13: =AL13+AS13 -> 313 | AX13: =AW13/63 -> 4.968254 | AY13: =AM13+AT13 -> 324 | AZ13: =AW13-AY13 -> -11 | BG13: 34
